{"text_format":"1","workbook":"xlsx","n_sheets":19,"sheets":["Set Problem","Sketch","Closed Boundaries","Open Boundaries","L_SS","M_SS","Mt_SS","L_DS","M_DS","Direct Solution","A_gls","B_gls","perm xory","Indirect Solution","Indirect_LU","perms","New Condition","New Direct Solution","New Indirect Solution"],"not_rendered":{"charts":1,"images":0,"macros":1,"external_links":0,"defined_names":0,"comments":0,"pivot_tables":0},"unopened":[],"bounds":{"document_bytes":16777216,"sheet_cells":100000,"rows_first":2000,"rows_last":500,"rows_between":2000,"halvings":0,"cell_chars":16384,"cell_head_chars":4096},"cells_cut":0,"cells_raw":0,"read":"whole","date_system":"1900"}

{"sheet":"Set Problem","index":0,"n_rows":126,"n_cols":26,"rows_kept":126,"cut":false,"hidden":false,"merged":[[7,19,7,21],[8,19,8,20],[7,1,7,3],[7,5,7,7],[8,1,8,2],[8,5,8,6],[8,10,8,11],[7,10,7,13],[7,15,7,17],[8,15,8,16],[4,23,4,24],[1,2,1,22],[2,10,2,11],[2,23,2,24],[2,12,2,15],[2,16,2,21]]}
[]
[null,null,"LIBEMA. The solution of axisimmetric interior Laplace problems in Excel"]
[null,null,null,null,null,null,null,null,null,"by","Stephen Kirkup",null,"Computational Mechanics Research",null,null,null,"University of Central Lancashire",null,null,null,null,null,null,"Guide",null,"www.boundary-element-method.com/Excel_VBA/LIBEM2_xls.pdf"]
[null,null,"INTERIOR?",null,null,"CLOSED?",null,null,null,"version 1"]
[null,null,true,null,null,true,null,null,null,null,null,null,null,null,null,null,null,null,null,null,null,null,null,"Source of this file",null,"www.boundary-element-method.com/Excel_VBA/LIBEM2.xlsm"]
[]
[]
[null,"Nodes",null,null,null,"Panels",null,null,null,null,"Boundary Condition",null,null,null,null,"Interior Points",null,null,null,"Panel Centres"]
[null,"Number of nodes",null,25,null,"Number of panels",null,24,null,null,"Number of panels",null,{"$f":"H9","v":24},null,null,"Number of points",null,5,null,"Number of panels",null,{"$f":"H9","v":24}]
[null,"Index","r","z",null,"index","node 1","node 2",null,null,"index","alpha","beta","f",null,"index","x","y",null,"index","r-centre","z-centre"]
[null,1,0,1,null,1,1,2,null,null,{"$f":"IF(F11<>\"\",F11,\"\")","v":1},1,0,20,null,1,0.25,0.25,null,{"$f":"IF(F11<>\"\",F11,\"\")","v":1},6.25E-2,1]
[null,2,0.125,1,null,2,2,3,null,null,{"$f":"IF(F12<>\"\",F12,\"\")","v":2},1,0,20,null,2,0.75,0.25,null,{"$f":"IF(F12<>\"\",F12,\"\")","v":2},0.1875,1]
[null,3,0.25,1,null,3,3,4,null,null,3,1,0,20,null,3,0.25,0.75,null,3,0.3125,1]
[null,4,0.375,1,null,4,4,5,null,null,4,1,0,20,null,4,0.75,0.75,null,4,0.4375,1]
[null,5,0.5,1,null,5,5,6,null,null,5,1,0,20,null,5,0.5,0.5,null,5,0.5625,1]
[null,6,0.625,1,null,6,6,7,null,null,6,1,0,20,null,null,null,null,null,6,0.6875,1]
[null,7,0.75,1,null,7,7,8,null,null,7,1,0,20,null,null,null,null,null,7,0.8125,1]
[null,8,0.875,1,null,8,8,9,null,null,8,1,0,20,null,null,null,null,null,8,0.9375,1]
[null,9,1,1,null,9,9,10,null,null,9,0,1,0,null,null,null,null,null,9,1,0.9375]
[null,10,1,0.875,null,10,10,11,null,null,10,0,1,0,null,null,null,null,null,10,1,0.8125]
[null,11,1,0.75,null,11,11,12,null,null,11,0,1,0,null,null,null,null,null,11,1,0.6875]
[null,12,1,0.625,null,12,12,13,null,null,12,0,1,0,null,null,null,null,null,12,1,0.5625]
[null,13,1,0.5,null,13,13,14,null,null,13,0,1,0,null,null,null,null,null,13,1,0.4374999999999995]
[null,14,1,0.374999999999999,null,14,14,15,null,null,14,0,1,0,null,null,null,null,null,14,1,0.312499999999999]
[null,15,1,0.249999999999999,null,15,15,16,null,null,15,0,1,0,null,null,null,null,null,15,1,0.187499999999999]
[null,16,1,0.124999999999999,null,16,16,17,null,null,16,0,1,0,null,null,null,null,null,16,1,6.24999999999995E-2]
[null,17,1,0,null,17,17,18,null,null,17,1,0,10,null,null,null,null,null,17,0.9375,0]
[null,18,0.875,0,null,18,18,19,null,null,18,1,0,10,null,null,null,null,null,18,0.8125,0]
[null,19,0.75,0,null,19,19,20,null,null,19,1,0,10,null,null,null,null,null,19,0.6875,0]
[null,20,0.625,0,null,20,20,21,null,null,20,1,0,10,null,null,null,null,null,20,0.5625,0]
[null,21,0.5,0,null,21,21,22,null,null,21,1,0,10,null,null,null,null,null,21,0.4375,0]
[null,22,0.375,0,null,22,22,23,null,null,22,1,0,10,null,null,null,null,null,22,0.3125,0]
[null,23,0.25,0,null,23,23,24,null,null,23,1,0,10,null,null,null,null,null,23,0.1875,0]
[null,24,0.125,0,null,24,24,25,null,null,24,1,0,10,null,null,null,null,null,24,6.25E-2,0]
[null,25,0,0,null,null,null,null,null,null,"",null,null,null,null,null,null,null,null,""]
[null,null,null,null,null,null,null,null,null,null,"",null,null,null,null,null,null,null,null,""]
[null,null,null,null,null,null,null,null,null,null,"",null,null,null,null,null,null,null,null,""]
[null,null,null,null,null,null,null,null,null,null,"",null,null,null,null,null,null,null,null,""]
[null,null,null,null,null,null,null,null,null,null,"",null,null,null,null,null,null,null,null,""]
[null,null,null,null,null,null,null,null,null,null,"",null,null,null,null,null,null,null,null,""]
[null,null,null,null,null,null,null,null,null,null,"",null,null,null,null,null,null,null,null,""]
[null,null,null,null,null,null,null,null,null,null,"",null,null,null,null,null,null,null,null,""]
[null,null,null,null,null,null,null,null,null,null,"",null,null,null,null,null,null,null,null,""]
[null,null,null,null,null,null,null,null,null,null,"",null,null,null,null,null,null,null,null,""]
[null,null,null,null,null,null,null,null,null,null,"",null,null,null,null,null,null,null,null,""]
[null,null,null,null,null,null,null,null,null,null,"",null,null,null,null,null,null,null,null,""]
[null,null,null,null,null,null,null,null,null,null,"",null,null,null,null,null,null,null,null,""]
[null,null,null,null,null,null,null,null,null,null,"",null,null,null,null,null,null,null,null,""]
[null,null,null,null,null,null,null,null,null,null,"",null,null,null,null,null,null,null,null,""]
[null,null,null,null,null,null,null,null,null,null,"",null,null,null,null,null,null,null,null,""]
[null,null,null,null,null,null,null,null,null,null,"",null,null,null,null,null,null,null,null,""]
[null,null,null,null,null,null,null,null,null,null,"",null,null,null,null,null,null,null,null,""]
[null,null,null,null,null,null,null,null,null,null,"",null,null,null,null,null,null,null,null,""]
[null,null,null,null,null,null,null,null,null,null,"",null,null,null,null,null,null,null,null,""]
[null,null,null,null,null,null,null,null,null,null,"",null,null,null,null,null,null,null,null,""]
[null,null,null,null,null,null,null,null,null,null,"",null,null,null,null,null,null,null,null,""]
[null,null,null,null,null,null,null,null,null,null,"",null,null,null,null,null,null,null,null,""]
[null,null,null,null,null,null,null,null,null,null,"",null,null,null,null,null,null,null,null,""]
[null,null,null,null,null,null,null,null,null,null,"",null,null,null,null,null,null,null,null,""]
[null,null,null,null,null,null,null,null,null,null,"",null,null,null,null,null,null,null,null,""]
[null,null,null,null,null,null,null,null,null,null,"",null,null,null,null,null,null,null,null,""]
[null,null,null,null,null,null,null,null,null,null,"",null,null,null,null,null,null,null,null,""]
[null,null,null,null,null,null,null,null,null,null,"",null,null,null,null,null,null,null,null,""]
[null,null,null,null,null,null,null,null,null,null,"",null,null,null,null,null,null,null,null,""]
[null,null,null,null,null,null,null,null,null,null,"",null,null,null,null,null,null,null,null,""]
[null,null,null,null,null,null,null,null,null,null,"",null,null,null,null,null,null,null,null,""]
[null,null,null,null,null,null,null,null,null,null,"",null,null,null,null,null,null,null,null,""]
[null,null,null,null,null,null,null,null,null,null,"",null,null,null,null,null,null,null,null,""]
[null,null,null,null,null,null,null,null,null,null,"",null,null,null,null,null,null,null,null,""]
[null,null,null,null,null,null,null,null,null,null,"",null,null,null,null,null,null,null,null,""]
[null,null,null,null,null,null,null,null,null,null,"",null,null,null,null,null,null,null,null,""]
[null,null,null,null,null,null,null,null,null,null,"",null,null,null,null,null,null,null,null,""]
[null,null,null,null,null,null,null,null,null,null,"",null,null,null,null,null,null,null,null,""]
[null,null,null,null,null,null,null,null,null,null,"",null,null,null,null,null,null,null,null,""]
[null,null,null,null,null,null,null,null,null,null,"",null,null,null,null,null,null,null,null,""]
[null,null,null,null,null,null,null,null,null,null,{"$f":"IF(F76<>\"\",F76,\"\")","v":""},null,null,null,null,null,null,null,null,{"$f":"IF(F76<>\"\",F76,\"\")","v":""}]
[null,null,null,null,null,null,null,null,null,null,"",null,null,null,null,null,null,null,null,""]
[null,null,null,null,null,null,null,null,null,null,"",null,null,null,null,null,null,null,null,""]
[null,null,null,null,null,null,null,null,null,null,"",null,null,null,null,null,null,null,null,""]
[null,null,null,null,null,null,null,null,null,null,"",null,null,null,null,null,null,null,null,""]
[null,null,null,null,null,null,null,null,null,null,"",null,null,null,null,null,null,null,null,""]
[null,null,null,null,null,null,null,null,null,null,"",null,null,null,null,null,null,null,null,""]
[null,null,null,null,null,null,null,null,null,null,"",null,null,null,null,null,null,null,null,""]
[null,null,null,null,null,null,null,null,null,null,"",null,null,null,null,null,null,null,null,""]
[null,null,null,null,null,null,null,null,null,null,"",null,null,null,null,null,null,null,null,""]
[null,null,null,null,null,null,null,null,null,null,"",null,null,null,null,null,null,null,null,""]
[null,null,null,null,null,null,null,null,null,null,"",null,null,null,null,null,null,null,null,""]
[null,null,null,null,null,null,null,null,null,null,"",null,null,null,null,null,null,null,null,""]
[null,null,null,null,null,null,null,null,null,null,"",null,null,null,null,null,null,null,null,""]
[null,null,null,null,null,null,null,null,null,null,"",null,null,null,null,null,null,null,null,""]
[null,null,null,null,null,null,null,null,null,null,"",null,null,null,null,null,null,null,null,""]
[null,null,null,null,null,null,null,null,null,null,"",null,null,null,null,null,null,null,null,""]
[null,null,null,null,null,null,null,null,null,null,"",null,null,null,null,null,null,null,null,""]
[null,null,null,null,null,null,null,null,null,null,"",null,null,null,null,null,null,null,null,""]
[null,null,null,null,null,null,null,null,null,null,"",null,null,null,null,null,null,null,null,""]
[null,null,null,null,null,null,null,null,null,null,"",null,null,null,null,null,null,null,null,""]
[null,null,null,null,null,null,null,null,null,null,"",null,null,null,null,null,null,null,null,""]
[null,null,null,null,null,null,null,null,null,null,"",null,null,null,null,null,null,null,null,""]
[null,null,null,null,null,null,null,null,null,null,"",null,null,null,null,null,null,null,null,""]
[null,null,null,null,null,null,null,null,null,null,"",null,null,null,null,null,null,null,null,""]
[null,null,null,null,null,null,null,null,null,null,"",null,null,null,null,null,null,null,null,""]
[null,null,null,null,null,null,null,null,null,null,"",null,null,null,null,null,null,null,null,""]
[null,null,null,null,null,null,null,null,null,null,"",null,null,null,null,null,null,null,null,""]
[null,null,null,null,null,null,null,null,null,null,"",null,null,null,null,null,null,null,null,""]
[null,null,null,null,null,null,null,null,null,null,"",null,null,null,null,null,null,null,null,""]
[null,null,null,null,null,null,null,null,null,null,"",null,null,null,null,null,null,null,null,""]
[null,null,null,null,null,null,null,null,null,null,"",null,null,null,null,null,null,null,null,""]
[null,null,null,null,null,null,null,null,null,null,"",null,null,null,null,null,null,null,null,""]
[null,null,null,null,null,null,null,null,null,null,"",null,null,null,null,null,null,null,null,""]
[null,null,null,null,null,null,null,null,null,null,"",null,null,null,null,null,null,null,null,""]
[null,null,null,null,null,null,null,null,null,null,"",null,null,null,null,null,null,null,null,""]
[null,null,null,null,null,null,null,null,null,null,"",null,null,null,null,null,null,null,null,""]
[null,null,null,null,null,null,null,null,null,null,"",null,null,null,null,null,null,null,null,""]
[null,null,null,null,null,null,null,null,null,null,"",null,null,null,null,null,null,null,null,""]
[null,null,null,null,null,null,null,null,null,null,"",null,null,null,null,null,null,null,null,""]
[null,null,null,null,null,null,null,null,null,null,"",null,null,null,null,null,null,null,null,""]
[null,null,null,null,null,null,null,null,null,null,"",null,null,null,null,null,null,null,null,""]
[null,null,null,null,null,null,null,null,null,null,"",null,null,null,null,null,null,null,null,""]
[null,null,null,null,null,null,null,null,null,null,"",null,null,null,null,null,null,null,null,""]
[null,null,null,null,null,null,null,null,null,null,"",null,null,null,null,null,null,null,null,""]
[null,null,null,null,null,null,null,null,null,null,"",null,null,null,null,null,null,null,null,""]
[null,null,null,null,null,null,null,null,null,null,"",null,null,null,null,null,null,null,null,""]
[null,null,null,null,null,null,null,null,null,null,"",null,null,null,null,null,null,null,null,""]
[null,null,null,null,null,null,null,null,null,null,"",null,null,null,null,null,null,null,null,""]
[null,null,null,null,null,null,null,null,null,null,"",null,null,null,null,null,null,null,null,""]
[null,null,null,null,null,null,null,null,null,null,null,null,null,null,null,null,null,null,null,""]

{"sheet":"Sketch","index":1,"n_rows":55,"n_cols":27,"rows_kept":55,"cut":false,"hidden":false,"merged":[[3,1,3,23],[4,25,4,26],[7,0,7,1],[8,0,8,1]]}
[]
[]
[]
[null,null,null,null,null,null,null,null,null,null,null,null,null,null,null,null,null,null,null,null,null,null,null,null,"2017-06-20","19:27:03","18:31:08"]
[]
[]
[]
["Boundary Nodes"]
["and domain points"]
[0,1]
[0.125,1]
[0.25,1]
[0.375,1]
[0.5,1]
[0.625,1]
[0.75,1]
[0.875,1]
[1,1]
[1,0.875]
[1,0.75]
[1,0.625]
[1,0.5]
[1,0.374999999999999]
[1,0.249999999999999]
[1,0.124999999999999]
[1,0]
[0.875,0]
[0.75,0]
[0.625,0]
[0.5,0]
[0.375,0]
[0.25,0]
[0.125,0]
[0,0]
[]
[0.25,0.25]
[]
[0.75,0.25]
[]
[0.25,0.75]
[]
[0.75,0.75]
[null,null,null,null,"X","Y"]
[0.5,0.5,null,"MAX",{"$f":"MAX(A10:A2005)","v":1},{"$f":"MAX(B10:B2005)","v":1}]
[null,null,null,"MIN",{"$f":"MIN(A10:A2005)","v":0},{"$f":"MIN(B10:B2005)","v":0}]
[]
[]
[null,null,null,null,"X","Y","MIN"]
[null,null,null,"LENGTH",{"$f":"E44-E45","v":1},{"$f":"F44-F45","v":1},{"$f":"MIN(E49:F49)","v":1}]
[]
[null,null,null,"MID",{"$f":"(E44+E45)/2","v":0.5},{"$f":"(F44+F45)/2","v":0.5}]
[]
[]
[null,null,null,"NEW MAX",{"$f":"E51+G49*F49/2","v":1},{"$f":"F51+G49*F49/2","v":1}]
[null,null,null,"NEW MIN",{"$f":"E51-G49*F49/2","v":0},{"$f":"F51-G49*F49/2","v":0}]

{"sheet":"Closed Boundaries","index":2,"n_rows":34,"n_cols":18,"rows_kept":34,"cut":false,"hidden":false,"merged":[[1,1,1,6],[3,1,3,5]]}
[]
[null,null,null,null,null,null,null,null,null,"2017-06-20",null,"19:27:08"]
[]
[null,"Number of separate boundaries =",null,null,null,null,1]
[]
[null,"boundary",null,"boundary",null,"boundary",null,"boundary",null,"boundary",null,"boundary",null,"boundary",null,"boundary",null,"boundary"]
[null,1]
[null,"number of panels"]
[null,24]
[null,"panels below"]
[null,1]
[null,2]
[null,3]
[null,4]
[null,5]
[null,6]
[null,7]
[null,8]
[null,9]
[null,10]
[null,11]
[null,12]
[null,13]
[null,14]
[null,15]
[null,16]
[null,17]
[null,18]
[null,19]
[null,20]
[null,21]
[null,22]
[null,23]
[null,24]

{"sheet":"Open Boundaries","index":3,"n_rows":6,"n_cols":18,"rows_kept":6,"cut":false,"hidden":true,"merged":[[3,1,3,5],[1,1,1,6]]}
[]
[null,"OPEN BOUNDARIES"]
[]
[null,"Number of separate boundaries =",null,null,null,null,0]
[]
[null,"boundary",null,"boundary",null,"boundary",null,"boundary",null,"boundary",null,"boundary",null,"boundary",null,"boundary",null,"boundary"]

{"sheet":"L_SS","index":4,"n_rows":24,"n_cols":24,"rows_kept":24,"cut":false,"hidden":false,"merged":[]}
[5.8289820043809594E-2,6.4634903454114753E-2,6.3167685717672312E-2,6.282950241193884E-2,6.2696721341829464E-2,6.2630829153989653E-2,6.259332116440923E-2,6.2569931238824178E-2,6.2398131581932283E-2,6.1446766941005315E-2,5.9667943713049641E-2,5.7267968027061238E-2,5.4477284213126941E-2,5.1503101279574005E-2,4.8505338364090399E-2,4.5592924506822313E-2,4.2709353182464146E-2,3.9365369422599793E-2,3.5351849819036898E-2,3.0577868877058389E-2,2.4985811136014363E-2,1.8583580814385069E-2,1.1476733071427695E-2,3.883676282357528E-3]
[2.2245868656656485E-2,8.2546062638332335E-2,7.0244721654114217E-2,6.5799070898165044E-2,6.4380946744589551E-2,6.3724692732951671E-2,6.3363480553073018E-2,6.3142479010617869E-2,6.2885483563559053E-2,6.1868045149167786E-2,5.9980442328536825E-2,5.7460871838262415E-2,5.4564529787249079E-2,5.1510213957926217E-2,4.8458783406945656E-2,4.5514632075996451E-2,4.2600964733534932E-2,3.9213735500737847E-2,3.5156268282055862E-2,3.0346663267352941E-2,2.47404788321532E-2,1.8359627260435839E-2,1.1317365664958678E-2,3.8256851031120967E-3]
[1.2766387468448961E-2,4.2742971253757533E-2,9.2960611459350306E-2,7.4816243058363485E-2,6.8518829000284609E-2,6.6209391466493087E-2,6.5044660186982364E-2,6.4363456468973512E-2,6.3913112812743908E-2,6.2743708794462866E-2,6.0612377267604343E-2,5.7834350438665368E-2,5.4718475065435493E-2,5.1503928953212638E-2,4.8349086960279605E-2,4.5346196732959893E-2,4.2374485800178503E-2,3.890203574966996E-2,3.4760843966336406E-2,2.9887439407012384E-2,2.4262122424522897E-2,1.7930557959892356E-2,1.1016302236067314E-2,3.7169951500630963E-3]
[9.0225931735315231E-3,2.8366100801214399E-2,5.3900219228230045E-2,9.9732517464441603E-2,7.8537519523594279E-2,7.1006001941711139E-2,6.801304718171014E-2,6.6419645800560853E-2,6.5605714099043436E-2,6.414502434157475E-2,6.1570262842536347E-2,5.8353515949943251E-2,5.48910192156081E-2,5.1440228114157716E-2,4.8142643842172241E-2,4.5064593943900236E-2,4.2011938534805018E-2,3.8416040132911257E-2,3.4160620222689342E-2,2.9209749665875282E-2,2.3576039002467717E-2,1.7331078026311845E-2,1.0604149913381263E-2,3.5698575247725701E-3]
[6.9881262754998338E-3,2.1532285520071266E-2,3.8217194205675369E-2,6.1453935084826126E-2,0.10478143433647592,8.1660307780833663E-2,7.3245134180403126E-2,6.9719093391767628E-2,6.8212591982415929E-2,6.618844995165131E-2,6.2835040107046311E-2,5.8935114263581043E-2,5.4992392023697621E-2,5.1247179400150049E-2,4.7789301911222798E-2,4.4637695133764574E-2,4.1490319862827078E-2,3.7740946494978944E-2,3.3356052228187334E-2,2.8333823430952178E-2,2.2720039465535195E-2,1.66060046227221E-2,1.0117103291447728E-2,3.3981348591185165E-3]
[5.7055929424541293E-3,1.7417361884412928E-2,3.0167762399746209E-2,4.5318306396812148E-2,6.7119960344894647E-2,0.10878958765433092,8.4347838001555805E-2,7.5266096253649883E-2,7.2248204465108601E-2,6.9020772663514737E-2,6.4285613550527476E-2,5.939740076177849E-2,5.4873651700627038E-2,5.0823900491632823E-2,4.7226562224603578E-2,4.4028933371293731E-2,4.0787076560134937E-2,3.6868519488157545E-2,3.2359374040076633E-2,2.7292878730063107E-2,2.1741015554093052E-2,1.5802893069316041E-2,9.5899181468284776E-3,3.2144792598465624E-3]
[4.8220440776390655E-3,1.4644811201137113E-2,2.5058319418217085E-2,3.6690364803853431E-2,5.0824864540930652E-2,7.1633481227744156E-2,0.11212216272191618,8.6706272687075064E-2,7.8920440899484842E-2,7.2622482022212831E-2,6.5492651387353482E-2,5.9393091189618559E-2,5.4323513239255938E-2,5.00525538208259E-2,4.6391117579509526E-2,4.3205481536370202E-2,3.9887439763517059E-2,3.5804154559435218E-2,3.1198112187547172E-2,2.6131129929057209E-2,2.0688741982731386E-2,1.4965192333258184E-2,9.0512985586632642E-3,3.0288068938916076E-3]
[4.1759882330146434E-3,1.2642930217081075E-2,2.1480243952711107E-2,3.1036278486604514E-2,4.1893902458122766E-2,5.5298733964680442E-2,7.537409983540698E-2,0.11497472807744889,9.1627402721453435E-2,7.5507810785520921E-2,6.5379999921867937E-2,5.8420890797469621E-2,5.3119463448940848E-2,4.8833699449139741E-2,4.5238883602386794E-2,4.2149112900461402E-2,3.8791754814008712E-2,3.4570823249180309E-2,2.9913478269292117E-2,2.4897780204450701E-2,1.9609147624816265E-2,1.4127820686184588E-2,8.5221662001864242E-3,2.8479777929068147E-3]
[3.9061821420446115E-3,1.1811142421355864E-2,2.0011045312580918E-2,2.8768577462736766E-2,3.8486271606926338E-2,4.9898470618928388E-2,6.4655560227085837E-2,8.5979396569054442E-2,0.11628170028243931,8.3574248460750469E-2,6.8968373102124669E-2,6.062051347594373E-2,5.4676663623069492E-2,5.0035231402686564E-2,4.6220754807024582E-2,4.298423790885543E-2,3.9478678224689132E-2,3.5073938424987045E-2,3.024640837881247E-2,2.5092134267592454E-2,1.9704986289944774E-2,1.4164274337081589E-2,8.5306902857185136E-3,2.8485495386541032E-3]
[3.8458781997146494E-3,1.1617393057476002E-2,1.963870300286414E-2,2.8113502602491732E-2,3.7306010450857609E-2,4.754881986624572E-2,5.9028704988924673E-2,7.0281050083593075E-2,8.3574248460750469E-2,0.11628170028243931,8.3574248460750469E-2,6.8968373102124669E-2,6.0620513475944202E-2,5.4676663623069048E-2,5.0035231402686564E-2,4.6220754807024228E-2,4.2365776121755051E-2,3.7655725561153895E-2,3.2441754698558443E-2,2.6864609390652119E-2,2.1052781068285946E-2,1.5104179561207604E-2,9.0838617287746625E-3,3.0309928861874244E-3]
[3.733308012786778E-3,1.1258688281301494E-2,1.8962295664387542E-2,2.6965739595018683E-2,3.5375478395654435E-2,4.4205803856845173E-2,5.3135825102490694E-2,6.1060717713495478E-2,6.8968373102124683E-2,8.3574248460750469E-2,0.11628170028243931,8.3574248460750469E-2,6.8968373102125197E-2,6.0620513475943681E-2,5.4676663623069048E-2,5.0035231402686176E-2,4.5721228009112748E-2,4.0621755303350035E-2,3.4912291194389412E-2,2.881113440785758E-2,2.2498549502201606E-2,1.6093048611154993E-2,9.6580226106868228E-3,3.2190551117701506E-3]
[3.581769778317331E-3,1.0781202574333905E-2,1.808412550062883E-2,2.554085394163761E-2,3.3154257550929732E-2,4.081366081657168E-2,4.8184187449803566E-2,5.4638505003770141E-2,6.062051347594373E-2,6.8968373102124683E-2,8.3574248460750469E-2,0.11628170028243931,8.3574248460751066E-2,6.89683731021246E-2,6.0620513475943681E-2,5.4676663623068632E-2,4.9714559636270465E-2,4.407982950997958E-2,3.7696088652460866E-2,3.0923163781511245E-2,2.4014624181623142E-2,1.7102696960147937E-2,1.0233839488137272E-2,3.4059843675345635E-3]
[3.405984367534563E-3,1.0233839488137272E-2,1.7102696960147934E-2,2.4014624181623138E-2,3.0923163781511241E-2,3.7696088652460859E-2,4.4079829509979573E-2,4.9714559636270458E-2,5.4676663623069062E-2,6.0620513475943709E-2,6.8968373102124642E-2,8.3574248460750372E-2,0.1162817002824401,8.3574248460750386E-2,6.8968373102124628E-2,6.0620513475943258E-2,5.4638505003770169E-2,4.8184187449803566E-2,4.0813660816571708E-2,3.3154257550929746E-2,2.5540853941637617E-2,1.8084125500628837E-2,1.0781202574333905E-2,3.5817697783173319E-3]
[3.2190551117701489E-3,9.6580226106868176E-3,1.6093048611154983E-2,2.2498549502201592E-2,2.8811134407857566E-2,3.4912291194389392E-2,4.0621755303350014E-2,4.5721228009112727E-2,5.0035231402686557E-2,5.4676663623069041E-2,6.0620513475943667E-2,6.89683731021246E-2,8.3574248460751066E-2,0.11628170028243934,8.3574248460750469E-2,6.896837310212417E-2,6.1060717713495534E-2,5.3135825102490729E-2,4.4205803856845187E-2,3.5375478395654449E-2,2.6965739595018693E-2,1.8962295664387546E-2,1.1258688281301499E-2,3.7333080127867793E-3]
[3.0309928861874226E-3,9.0838617287746556E-3,1.5104179561207597E-2,2.1052781068285932E-2,2.6864609390652102E-2,3.2441754698558423E-2,3.7655725561153867E-2,4.236577612175503E-2,4.6220754807024582E-2,5.0035231402686557E-2,5.4676663623069041E-2,6.0620513475943667E-2,6.8968373102125197E-2,8.3574248460750469E-2,0.11628170028243934,8.3574248460749873E-2,7.0281050083593144E-2,5.9028704988924714E-2,4.7548819866245734E-2,3.730601045085763E-2,2.8113502602491732E-2,1.963870300286414E-2,1.1617393057476005E-2,3.8458781997146503E-3]
[2.8485495386541024E-3,8.5306902857185136E-3,1.4164274337081584E-2,1.970498628994477E-2,2.5092134267592447E-2,3.0246408378812463E-2,3.5073938424987031E-2,3.9478678224689125E-2,4.298423790885577E-2,4.6220754807024603E-2,5.0035231402686564E-2,5.4676663623069062E-2,6.0620513475944222E-2,6.8968373102124739E-2,8.3574248460750566E-2,0.11628170028243853,8.5979396569054539E-2,6.4655560227085865E-2,4.9898470618928388E-2,3.8486271606926345E-2,2.8768577462736762E-2,2.0011045312580921E-2,1.1811142421355865E-2,3.9061821420446128E-3]
[2.8479777929068147E-3,8.5221662001864242E-3,1.4127820686184586E-2,1.9609147624816265E-2,2.4897780204450697E-2,2.991347826929211E-2,3.4570823249180316E-2,3.8791754814008712E-2,4.2149112900461749E-2,4.5238883602386815E-2,4.8833699449139768E-2,5.3119463448940432E-2,5.8420890797470114E-2,6.5379999921868021E-2,7.5507810785521004E-2,9.1627402721452755E-2,0.11497472807744889,7.537409983540698E-2,5.5298733964680442E-2,4.1893902458122773E-2,3.1036278486604514E-2,2.1480243952711107E-2,1.2642930217081074E-2,4.1759882330146434E-3]
[3.0288068938916076E-3,9.0512985586632642E-3,1.4965192333258184E-2,2.0688741982731389E-2,2.6131129929057206E-2,3.1198112187547179E-2,3.5804154559435211E-2,3.9887439763517059E-2,4.3205481536370556E-2,4.6391117579509554E-2,5.0052553820825942E-2,5.4323513239255522E-2,5.9393091189619052E-2,6.5492651387353537E-2,7.2622482022212886E-2,7.8920440899484232E-2,8.6706272687075064E-2,0.11212216272191619,7.1633481227744156E-2,5.0824864540930666E-2,3.6690364803853438E-2,2.5058319418217085E-2,1.4644811201137113E-2,4.8220440776390655E-3]
[3.2144792598465624E-3,9.5899181468284758E-3,1.5802893069316041E-2,2.1741015554093052E-2,2.72928787300631E-2,3.2359374040076626E-2,3.6868519488157538E-2,4.0787076560134937E-2,4.4028933371294106E-2,4.7226562224603599E-2,5.0823900491632844E-2,5.4873651700626622E-2,5.9397400761778983E-2,6.4285613550527532E-2,6.9020772663514779E-2,7.2248204465108046E-2,7.5266096253649883E-2,8.4347838001555778E-2,0.10878958765433089,6.7119960344894647E-2,4.5318306396812141E-2,3.0167762399746209E-2,1.7417361884412928E-2,5.7055929424541284E-3]
[3.3981348591185156E-3,1.0117103291447726E-2,1.6606004622722104E-2,2.2720039465535188E-2,2.8333823430952174E-2,3.3356052228187327E-2,3.7740946494978951E-2,4.1490319862827078E-2,4.4637695133764949E-2,4.7789301911222812E-2,5.1247179400150084E-2,5.4992392023697198E-2,5.8935114263581521E-2,6.2835040107046325E-2,6.6188449951651337E-2,6.8212591982415402E-2,6.9719093391767628E-2,7.3245134180403126E-2,8.1660307780833663E-2,0.10478143433647591,6.1453935084826126E-2,3.8217194205675369E-2,2.1532285520071266E-2,6.9881262754998346E-3]
[3.5698575247725705E-3,1.0604149913381261E-2,1.7331078026311848E-2,2.3576039002467714E-2,2.9209749665875279E-2,3.4160620222689342E-2,3.841604013291125E-2,4.2011938534805018E-2,4.5064593943900597E-2,4.8142643842172268E-2,5.1440228114157743E-2,5.489101921560767E-2,5.8353515949943723E-2,6.1570262842536382E-2,6.4145024341574763E-2,6.5605714099042922E-2,6.6419645800560867E-2,6.801304718171014E-2,7.1006001941711153E-2,7.8537519523594265E-2,9.9732517464441603E-2,5.3900219228230052E-2,2.8366100801214399E-2,9.0225931735315248E-3]
[3.7169951500630959E-3,1.1016302236067312E-2,1.793055795989236E-2,2.4262122424522903E-2,2.9887439407012377E-2,3.4760843966336413E-2,3.8902035749669966E-2,4.2374485800178503E-2,4.534619673296026E-2,4.8349086960279626E-2,5.1503928953212666E-2,5.4718475065435056E-2,5.7834350438665832E-2,6.0612377267604364E-2,6.274370879446288E-2,6.3913112812743395E-2,6.4363456468973512E-2,6.5044660186982364E-2,6.6209391466493073E-2,6.8518829000284595E-2,7.4816243058363499E-2,9.2960611459350292E-2,4.2742971253757533E-2,1.2766387468448961E-2]
[3.8256851031120962E-3,1.1317365664958674E-2,1.8359627260435839E-2,2.4740478832153204E-2,3.0346663267352941E-2,3.5156268282055862E-2,3.921373550073784E-2,4.2600964733534939E-2,4.5514632075996826E-2,4.8458783406945677E-2,5.1510213957926237E-2,5.4564529787248656E-2,5.7460871838262886E-2,5.9980442328536845E-2,6.18680451491678E-2,6.2885483563558553E-2,6.3142479010617855E-2,6.3363480553073018E-2,6.3724692732951671E-2,6.4380946744589537E-2,6.5799070898165044E-2,7.0244721654114217E-2,8.2546062638332335E-2,2.2245868656656488E-2]
[3.883676282357528E-3,1.1476733071427693E-2,1.8583580814385069E-2,2.4985811136014363E-2,3.0577868877058392E-2,3.5351849819036898E-2,3.9365369422599786E-2,4.2709353182464146E-2,4.5592924506822688E-2,4.8505338364090426E-2,5.1503101279574033E-2,5.4477284213126517E-2,5.7267968027061709E-2,5.9667943713049648E-2,6.1446766941005336E-2,6.2398131581931783E-2,6.2569931238824164E-2,6.259332116440923E-2,6.2630829153989653E-2,6.2696721341829464E-2,6.2829502411938853E-2,6.3167685717672312E-2,6.4634903454114767E-2,5.8289820043809594E-2]

{"sheet":"M_SS","index":5,"n_rows":24,"n_cols":26,"rows_kept":24,"cut":false,"hidden":false,"merged":[]}
[0,0,0,0,0,0,0,0,-6.2194125810750366E-2,-5.9389334014564837E-2,-5.437450174711022E-2,-4.8068754302487943E-2,-4.1374581648130043E-2,-3.4958836911235601E-2,-2.9201584914892019E-2,-2.4250542211817504E-2,-2.2746650461425929E-2,-2.3710775661181668E-2,-2.397993143437958E-2,-2.3173076368597664E-2,-2.0889647622712833E-2,-1.6837261085362317E-2,-1.1011249696606074E-2,-3.8391462087407208E-3,null,{"$f":"SUM(A1:X1)","v":-0.50000000009999535}]
[0,0,0,0,0,0,0,0,-6.3653887663677466E-2,-6.0524041572130732E-2,-5.501615659447278E-2,-4.8239296673347504E-2,-4.1208406144262709E-2,-3.4608684204537284E-2,-2.8785664453032066E-2,-2.3841175853429149E-2,-2.2832874896653459E-2,-2.3694379518692198E-2,-2.3816673215901099E-2,-2.2836501631580814E-2,-2.0401711763680688E-2,-1.6294442588165058E-2,-1.0575171423433252E-2,-3.6709319029992931E-3,null,{"$f":"SUM(A2:X2)","v":-0.50000000009999546}]
[0,0,0,0,0,0,0,0,-6.6840633526671689E-2,-6.2922939437086114E-2,-5.6270553507976225E-2,-4.8466334725293707E-2,-4.0754941873779454E-2,-3.3818816209698899E-2,-2.7901102143200209E-2,-2.2997582580897423E-2,-2.2966170827927269E-2,-2.3612989241904071E-2,-2.3443284967815375E-2,-2.2138776409193969E-2,-1.9444901518055391E-2,-1.5273254290655963E-2,-9.7790024085871174E-3,-3.3687164312529382E-3,null,-0.50000000009999579]
[0,0,0,0,0,0,0,0,-7.2424776333400345E-2,-6.6855717699725509E-2,-5.8003081017246425E-2,-4.8450921923305468E-2,-3.974176954814479E-2,-3.2408776717177401E-2,-2.6451640910227548E-2,-2.1679610869366397E-2,-2.3068799639186257E-2,-2.3377353831064988E-2,-2.2784006775206374E-2,-2.1054332814804223E-2,-1.8071776609212734E-2,-1.3893207592704966E-2,-8.7480855802064515E-3,-2.986142239016369E-3,null,-0.50000000009999623]
[0,0,0,0,0,0,0,0,-8.1896481041370942E-2,-7.2691940866177571E-2,-5.9718987526472374E-2,-4.7543037739468975E-2,-3.7701937015167247E-2,-3.0122248081435193E-2,-2.4324207591403222E-2,-1.9853074283977808E-2,-2.3029773942012166E-2,-2.2877178164577627E-2,-2.1768020464965482E-2,-1.959124460475381E-2,-1.6380508612598384E-2,-1.2306307917854951E-2,-7.6180141981882664E-3,-2.5770380495728161E-3,null,-0.5000000000999969]
[0,0,0,0,0,0,0,0,-9.883298485686634E-2,-8.040864645266875E-2,-5.9831208871202718E-2,-4.4492376820825824E-2,-3.3990800643786415E-2,-2.6698654124162075E-2,-2.1445364055328774E-2,-1.7523330940947903E-2,-2.2721575998412818E-2,-2.2014571192256412E-2,-2.0369263961207976E-2,-1.7815432179380798E-2,-1.4507190615475606E-2,-1.0664584582580718E-2,-6.5017307579730158E-3,-2.1822840092605477E-3,null,-0.50000000006233669]
[0,0,0,0,0,0,0,0,-0.1334137700364775,-8.6091197802032518E-2,-5.4050522434016215E-2,-3.7464054653698925E-2,-2.8049258357289202E-2,-2.204683301979049E-2,-1.786713403941282E-2,-1.4773206516845865E-2,-2.2032041965829759E-2,-2.0743973016536649E-2,-1.8632911530180905E-2,-1.5846736521262044E-2,-1.2597683243934501E-2,-9.0907293055980248E-3,-5.4739271056445434E-3,-1.82602049398699E-3,null,-0.50000000004253697]
[0,0,0,0,0,0,0,0,-0.21799779307265735,-6.3677354529619659E-2,-3.5592149673927292E-2,-2.55201002458962E-2,-2.0075241947895478E-2,-1.6480575256610931E-2,-1.3841088027547518E-2,-1.1783241617664402E-2,-2.0904543557271147E-2,-1.9099426949104867E-2,-1.6671098113223291E-2,-1.3828156461504822E-2,-1.0775472508864691E-2,-7.6635947188279591E-3,-4.5718877535842984E-3,-1.5182760397588699E-3,null,-0.50000000047395887]
[-2.4700814457654367E-4,-7.9603595546408833E-4,-1.5407884057144613E-3,-2.7495041890315537E-3,-5.0997933831157596E-3,-1.086898038116949E-2,-3.1963739320743229E-2,-0.17260679501135312,-4.8293295034191046E-2,-3.1786710878136074E-2,-2.4386473909215084E-2,-2.0101479944703078E-2,-1.7024159726248923E-2,-1.4616629001368059E-2,-1.2649524222622064E-2,-1.1003091566136412E-2,-2.1536675778340585E-2,-1.933585914019316E-2,-1.6565082246121715E-2,-1.3497584337255477E-2,-1.0357640670017427E-2,-7.2791577100996697E-3,-4.3077709478717436E-3,-1.4248160674856993E-3,null,-0.5000385959711745]
[-7.0672837858311473E-4,-2.263845810690585E-3,-4.3203082799322338E-3,-7.49715167391409E-3,-1.313950459748346E-2,-2.4576184425572738E-2,-4.977509945668758E-2,-9.1807122619242079E-2,-3.1786710878136074E-2,-4.8293295034191046E-2,-3.1786710878136074E-2,-2.4386473909215084E-2,-2.0101479944703224E-2,-1.7024159726248777E-2,-1.4616629001368059E-2,-1.2649524222621972E-2,-2.4796040803155516E-2,-2.2072399360516481E-2,-1.8610993769940094E-2,-1.4873033720551414E-2,-1.1195906117394266E-2,-7.7415120149618086E-3,-4.5287767881888345E-3,-1.4890158888135085E-3,null,-0.50003860730024807]
[-1.0761120750969111E-3,-3.4117467068183025E-3,-6.3603170029261835E-3,-1.0566429819684003E-2,-1.7111138816016114E-2,-2.7678273356060941E-2,-4.3511758086562623E-2,-5.9983695477773775E-2,-2.4386473909215087E-2,-3.1786710878136074E-2,-4.8293295034191046E-2,-3.1786710878136074E-2,-2.4386473909215264E-2,-2.010147994470305E-2,-1.7024159726248777E-2,-1.4616629001367952E-2,-2.9110010801800243E-2,-2.5525724227905899E-2,-2.0970280117742598E-2,-1.6262686589758549E-2,-1.1901356688519453E-2,-8.0437235100013424E-3,-4.6323631468337288E-3,-1.5110576035821668E-3,null,-0.50003860730829619]
[-1.3284527507862246E-3,-4.1614326537155006E-3,-7.5565367032822866E-3,-1.1995044895592385E-2,-1.8062057567622469E-2,-2.6219422375862632E-2,-3.5940190188753642E-2,-4.4334854278145763E-2,-2.0101479944703078E-2,-2.4386473909215087E-2,-3.1786710878136074E-2,-4.8293295034191046E-2,-3.1786710878136289E-2,-2.4386473909215046E-2,-2.010147994470305E-2,-1.7024159726248652E-2,-3.5156316805362603E-2,-3.000762753480796E-2,-2.360470166961064E-2,-1.747360353428035E-2,-1.2278307017614584E-2,-8.0461366450134495E-3,-4.5406848694926243E-3,-1.466453611329853E-3,null,-0.50003860732582128]
[-1.4664536113298534E-3,-4.540684869492626E-3,-8.0461366450134478E-3,-1.2278307017614584E-2,-1.7473603534280346E-2,-2.3604701669610626E-2,-3.0007627534807936E-2,-3.5156316805362575E-2,-1.7024159726248787E-2,-2.0101479944703061E-2,-2.4386473909215067E-2,-3.1786710878136032E-2,-4.8293295034191351E-2,-3.1786710878136025E-2,-2.4386473909215067E-2,-2.0101479944702915E-2,-4.4334854278145805E-2,-3.5940190188753676E-2,-2.6219422375862639E-2,-1.8062057567622466E-2,-1.1995044895592381E-2,-7.5565367032822831E-3,-4.1614326537154989E-3,-1.3284527507862239E-3,null,-0.50003860732582128]
[-1.5110576035821668E-3,-4.6323631468337279E-3,-8.0437235100013407E-3,-1.1901356688519448E-2,-1.6262686589758539E-2,-2.0970280117742574E-2,-2.5525724227905867E-2,-2.9110010801800201E-2,-1.4616629001368059E-2,-1.7024159726248773E-2,-2.010147994470305E-2,-2.4386473909215049E-2,-3.1786710878136289E-2,-4.8293295034191046E-2,-3.1786710878136074E-2,-2.438647390921491E-2,-5.9983695477773949E-2,-4.3511758086562692E-2,-2.7678273356060941E-2,-1.7111138816016096E-2,-1.0566429819683986E-2,-6.3603170029261713E-3,-3.4117467068182955E-3,-1.0761120750969089E-3,null,-0.50003860730829619]
[-1.4890158888135078E-3,-4.5287767881888328E-3,-7.7415120149618068E-3,-1.1195906117394258E-2,-1.4873033720551402E-2,-1.8610993769940076E-2,-2.207239936051646E-2,-2.4796040803155492E-2,-1.2649524222622065E-2,-1.4616629001368059E-2,-1.7024159726248773E-2,-2.010147994470305E-2,-2.4386473909215264E-2,-3.1786710878136074E-2,-4.829329503419106E-2,-3.1786710878135851E-2,-9.1807122619242482E-2,-4.977509945668758E-2,-2.4576184425572686E-2,-1.3139504597483408E-2,-7.4971516739140587E-3,-4.3203082799322147E-3,-2.2638458106905737E-3,-7.0672837858311137E-4,null,-0.50003860730024818]
[-1.4248160674856991E-3,-4.3077709478717419E-3,-7.2791577100996671E-3,-1.0357640670017423E-2,-1.349758433725547E-2,-1.6565082246121712E-2,-1.9335859140193149E-2,-2.1536675778340578E-2,-1.10030915661365E-2,-1.2649524222622072E-2,-1.4616629001368068E-2,-1.7024159726248787E-2,-2.0101479944703241E-2,-2.4386473909215108E-2,-3.1786710878136115E-2,-4.8293295034190734E-2,-0.17260679501135362,-3.1963739320743041E-2,-1.0868980381169409E-2,-5.0997933831157197E-3,-2.7495041890315316E-3,-1.5407884057144496E-3,-7.9603595546408237E-4,-2.4700814457654166E-4,null,-0.5000385959711745]
[-1.5182760397588701E-3,-4.5718877535842993E-3,-7.6635947188279582E-3,-1.0775472508864693E-2,-1.3828156461504823E-2,-1.6671098113223291E-2,-1.9099426949104863E-2,-2.0904543557271144E-2,-1.1783241617664506E-2,-1.3841088027547535E-2,-1.6480575256610952E-2,-2.0075241947895336E-2,-2.5520100245896436E-2,-3.5592149673927417E-2,-6.3677354529620103E-2,-0.21799779307265654,0,0,0,0,0,0,0,0,null,-0.50000000047395876]
[-1.82602049398699E-3,-5.4739271056445434E-3,-9.0907293055980248E-3,-1.2597683243934501E-2,-1.5846736521262044E-2,-1.8632911530180908E-2,-2.0743973016536649E-2,-2.2032041965829762E-2,-1.4773206516845992E-2,-1.7867134039412848E-2,-2.2046833019790532E-2,-2.8049258357289004E-2,-3.7464054653699286E-2,-5.4050522434016396E-2,-8.6091197802032837E-2,-0.13341377003647661,0,0,0,0,0,0,0,0,null,-0.50000000004253697]
[-2.1822840092605477E-3,-6.5017307579730167E-3,-1.0664584582580719E-2,-1.4507190615475604E-2,-1.7815432179380798E-2,-2.0369263961207976E-2,-2.2014571192256409E-2,-2.2721575998412822E-2,-1.7523330940948056E-2,-2.1445364055328812E-2,-2.6698654124162124E-2,-3.3990800643786186E-2,-4.4492376820826234E-2,-5.9831208871202871E-2,-8.0408646452668903E-2,-9.8832984856865619E-2,0,0,0,0,0,0,0,0,null,-0.50000000006233669]
[-2.5770380495728161E-3,-7.6180141981882672E-3,-1.2306307917854951E-2,-1.6380508612598384E-2,-1.959124460475381E-2,-2.1768020464965482E-2,-2.2877178164577627E-2,-2.3029773942012166E-2,-1.9853074283977985E-2,-2.432420759140326E-2,-3.0122248081435245E-2,-3.7701937015166984E-2,-4.7543037739469406E-2,-5.9718987526472485E-2,-7.2691940866177668E-2,-8.1896481041370303E-2,0,0,0,0,0,0,0,0,null,-0.50000000009999679]
[-2.986142239016369E-3,-8.7480855802064533E-3,-1.3893207592704966E-2,-1.807177660921273E-2,-2.1054332814804226E-2,-2.2784006775206367E-2,-2.3377353831064991E-2,-2.3068799639186257E-2,-2.1679610869366588E-2,-2.645164091022759E-2,-3.2408776717177457E-2,-3.9741769548144505E-2,-4.8450921923305898E-2,-5.8003081017246494E-2,-6.6855717699725564E-2,-7.242477633339979E-2,0,0,0,0,0,0,0,0,null,-0.50000000009999634]
[-3.3687164312529382E-3,-9.7790024085871174E-3,-1.5273254290655965E-2,-1.9444901518055391E-2,-2.2138776409193969E-2,-2.3443284967815378E-2,-2.3612989241904067E-2,-2.2966170827927269E-2,-2.2997582580897628E-2,-2.7901102143200247E-2,-3.3818816209698954E-2,-4.0754941873779163E-2,-4.8466334725294123E-2,-5.6270553507976287E-2,-6.2922939437086156E-2,-6.6840633526671175E-2,0,0,0,0,0,0,0,0,null,-0.50000000009999579]
[-3.6709319029992935E-3,-1.057517142343325E-2,-1.6294442588165058E-2,-2.0401711763680688E-2,-2.2836501631580814E-2,-2.3816673215901099E-2,-2.3694379518692198E-2,-2.2832874896653456E-2,-2.3841175853429358E-2,-2.8785664453032111E-2,-3.4608684204537332E-2,-4.1208406144262404E-2,-4.8239296673347913E-2,-5.5016156594472829E-2,-6.0524041572130767E-2,-6.3653887663676967E-2,0,0,0,0,0,0,0,0,null,-0.50000000009999557]
[-3.8391462087407203E-3,-1.1011249696606076E-2,-1.6837261085362321E-2,-2.0889647622712833E-2,-2.3173076368597664E-2,-2.3979931434379577E-2,-2.3710775661181668E-2,-2.2746650461425929E-2,-2.425054221181772E-2,-2.9201584914892061E-2,-3.4958836911235643E-2,-4.1374581648129745E-2,-4.8068754302488359E-2,-5.4374501747110289E-2,-5.9389334014564858E-2,-6.2194125810749873E-2,0,0,0,0,0,0,0,0,null,-0.50000000009999535]

{"sheet":"Mt_SS","index":6,"n_rows":24,"n_cols":24,"rows_kept":24,"cut":false,"hidden":false,"merged":[]}
[0,0,0,0,0,0,0,0,-3.8945019546362237E-3,-1.1156027895875689E-2,-1.7021707445168139E-2,-2.1064098969372728E-2,-2.3307450227181857E-2,-2.4065953415800811E-2,-2.375418715976391E-2,-2.2758561510075385E-2,-2.2746650461425929E-2,-2.3710775661181668E-2,-2.397993143437958E-2,-2.3173076368597664E-2,-2.0889647622712833E-2,-1.6837261085362317E-2,-1.1011249696606074E-2,-3.8391462087407208E-3]
[0,0,0,0,0,0,0,0,-4.1769433532367799E-3,-1.189728126149466E-2,-1.7976093530464921E-2,-2.1989479888643696E-2,-2.4057620746840074E-2,-2.4597417960514907E-2,-2.4087996775767413E-2,-2.2940792830235954E-2,-2.2832874896653459E-2,-2.3694379518692198E-2,-2.3816673215901099E-2,-2.2836501631580814E-2,-2.0401711763680688E-2,-1.6294442588165058E-2,-1.0575171423433252E-2,-3.6709319029992931E-3]
[0,0,0,0,0,0,0,0,-4.8328303250945804E-3,-1.3585579059668959E-2,-2.0078827701069391E-2,-2.3949531109099705E-2,-2.5584699572883451E-2,-2.5639221143611793E-2,-2.4718070377325832E-2,-2.326886618401431E-2,-2.2966170827927269E-2,-2.3612989241904071E-2,-2.3443284967815375E-2,-2.2138776409193969E-2,-1.9444901518055391E-2,-1.5273254290655963E-2,-9.7790024085871174E-3,-3.3687164312529382E-3]
[0,0,0,0,0,0,0,0,-6.1149838737186695E-3,-1.6757913483439524E-2,-2.3779860481714914E-2,-2.7153094208373522E-2,-2.7908013477292534E-2,-2.7121828869971564E-2,-2.5555332068724648E-2,-2.3665362110293763E-2,-2.3068799639186257E-2,-2.3377353831064988E-2,-2.2784006775206374E-2,-2.1054332814804223E-2,-1.8071776609212734E-2,-1.3893207592704966E-2,-8.7480855802064515E-3,-2.986142239016369E-3]
[0,0,0,0,0,0,0,0,-8.6911788667138317E-3,-2.2662384902141206E-2,-2.9900649856341169E-2,-3.1835918879813407E-2,-3.0944191177544277E-2,-2.8869839299439343E-2,-2.6436006072678719E-2,-2.4007011659320281E-2,-2.3029773942012166E-2,-2.2877178164577627E-2,-2.1768020464965482E-2,-1.959124460475381E-2,-1.6380508612598384E-2,-1.2306307917854951E-2,-7.6180141981882664E-3,-2.5770380495728161E-3]
[0,0,0,0,0,0,0,0,-1.4640057571929219E-2,-3.4306281920300767E-2,-3.9637410274110316E-2,-3.7957764027595868E-2,-3.4310350656156674E-2,-3.0525658615828767E-2,-2.7105255513154632E-2,-2.4129362018892059E-2,-2.2721575998412818E-2,-2.2014571192256412E-2,-2.0369263961207976E-2,-1.7815432179380798E-2,-1.4507190615475606E-2,-1.0664584582580718E-2,-6.5017307579730158E-3,-2.1822840092605477E-3]
[0,0,0,0,0,0,0,0,-3.2892802947042735E-2,-5.8837380614264634E-2,-5.3385185772699559E-2,-4.4373041109466299E-2,-3.7068460448568125E-2,-3.1518284113278137E-2,-2.7240571737182862E-2,-2.3853485392067619E-2,-2.2032041965829759E-2,-2.0743973016536649E-2,-1.8632911530180905E-2,-1.5846736521262044E-2,-1.2597683243934501E-2,-9.0907293055980248E-3,-5.4739271056445434E-3,-1.82602049398699E-3]
[0,0,0,0,0,0,0,0,-0.132755402504836,-0.10166797516380816,-6.5313087753492968E-2,-4.7843403580534211E-2,-3.7776572331173021E-2,-3.1208470895524257E-2,-2.6548253210037766E-2,-2.3039469963419851E-2,-2.0904543557271147E-2,-1.9099426949104867E-2,-1.6671098113223291E-2,-1.3828156461504822E-2,-1.0775472508864691E-2,-7.6635947188279591E-3,-4.5718877535842984E-3,-1.5182760397588699E-3]
[-3.9059090939214118E-3,-1.1997535238478511E-2,-2.1016489221777089E-2,-3.1939444807512984E-2,-4.6605002789854549E-2,-6.9291151666725684E-2,-0.11236914483833819,-0.15731663791090308,-4.8293295034110229E-2,-3.1786710878136067E-2,-2.4386473909215087E-2,-2.0101479944703078E-2,-1.7024159726248923E-2,-1.4616629001368059E-2,-1.2649524222622064E-2,-1.1003091566136412E-2,-1.1000910161130157E-2,-1.1941597777188867E-2,-1.1983087551363018E-2,-1.1111089713506453E-2,-9.4416962698094225E-3,-7.157560962040072E-3,-4.4537089279760803E-3,-1.5103533987807765E-3]
[-3.7264897869729104E-3,-1.1395239617401366E-2,-1.9752193627568096E-2,-2.9394801903536522E-2,-4.108880184408447E-2,-5.5322086445489971E-2,-6.8166051509716913E-2,-5.3799742444290984E-2,-3.1786710878136067E-2,-4.8293295034110229E-2,-3.1786710878136067E-2,-2.4386473909215087E-2,-2.0101479944703224E-2,-1.7024159726248773E-2,-1.4616629001368059E-2,-1.2649524222621972E-2,-1.2910918958732672E-2,-1.4426248238694091E-2,-1.4652470205853354E-2,-1.3607834224537868E-2,-1.1520034556113163E-2,-8.6863337571817505E-3,-5.3799709061451168E-3,-1.8197340589584407E-3]
[-3.4067781049300417E-3,-1.0340053189993309E-2,-1.7621002173277646E-2,-2.5405303365327085E-2,-3.3539794490331336E-2,-4.0771519110415454E-2,-4.284961092032074E-2,-3.2260380781613744E-2,-2.4386473909215087E-2,-3.1786710878136067E-2,-4.8293295034110229E-2,-3.1786710878136067E-2,-2.4386473909215268E-2,-2.010147994470305E-2,-1.7024159726248773E-2,-1.4616629001367952E-2,-1.535022908824824E-2,-1.7769013719904088E-2,-1.8220770898200976E-2,-1.6845872965947195E-2,-1.4118439474398219E-2,-1.0535456363894613E-2,-6.4736061406300499E-3,-2.1804511736508193E-3]
[-3.006613700745659E-3,-9.0492345320445748E-3,-1.5142050177221349E-2,-2.115974308643111E-2,-2.6615387818136653E-2,-3.0283430068218577E-2,-2.9945112809972203E-2,-2.3551354856231312E-2,-2.0101479944703078E-2,-2.4386473909215087E-2,-3.1786710878136067E-2,-4.8293295034110229E-2,-3.1786710878136282E-2,-2.4386473909215046E-2,-2.010147994470305E-2,-1.7024159726248649E-2,-1.8645215462049981E-2,-2.2538258234057536E-2,-2.3164225727172614E-2,-2.1085027586690258E-2,-1.7326879560131531E-2,-1.2710622252024311E-2,-7.7176138959249426E-3,-2.5838556688983234E-3]
[-2.5838556688983216E-3,-7.7176138959249374E-3,-1.2710622252024302E-2,-1.7326879560131514E-2,-2.1085027586690237E-2,-2.3164225727172583E-2,-2.2538258234057515E-2,-1.8645215462049967E-2,-1.7024159726248787E-2,-2.0101479944703068E-2,-2.4386473909215067E-2,-3.1786710878136018E-2,-4.8293295034110541E-2,-3.1786710878136018E-2,-2.4386473909215067E-2,-2.0101479944702915E-2,-2.3551354856231332E-2,-2.9945112809972248E-2,-3.0283430068218611E-2,-2.6615387818136677E-2,-2.1159743086431131E-2,-1.5142050177221361E-2,-9.04923453204458E-3,-3.0066137007456616E-3]
[-2.1804511736508163E-3,-6.4736061406300395E-3,-1.0535456363894595E-2,-1.4118439474398196E-2,-1.6845872965947171E-2,-1.8220770898200941E-2,-1.7769013719904057E-2,-1.5350229088248216E-2,-1.4616629001368059E-2,-1.7024159726248773E-2,-2.010147994470305E-2,-2.4386473909215049E-2,-3.1786710878136282E-2,-4.8293295034110229E-2,-3.1786710878136067E-2,-2.4386473909214914E-2,-3.2260380781613841E-2,-4.2849610920320878E-2,-4.0771519110415558E-2,-3.3539794490331398E-2,-2.540530336532712E-2,-1.7621002173277663E-2,-1.0340053189993322E-2,-3.4067781049300448E-3]
[-1.8197340589584383E-3,-5.3799709061451081E-3,-8.6863337571817349E-3,-1.1520034556113147E-2,-1.3607834224537848E-2,-1.4652470205853328E-2,-1.4426248238694071E-2,-1.2910918958732656E-2,-1.2649524222622065E-2,-1.4616629001368059E-2,-1.7024159726248773E-2,-2.010147994470305E-2,-2.4386473909215268E-2,-3.1786710878136067E-2,-4.8293295034110242E-2,-3.1786710878135845E-2,-5.3799742444291289E-2,-6.8166051509717204E-2,-5.5322086445490096E-2,-4.1088801844084526E-2,-2.939480190353656E-2,-1.975219362756811E-2,-1.1395239617401375E-2,-3.7264897869729125E-3]
[-1.5103533987807754E-3,-4.4537089279760769E-3,-7.1575609620400668E-3,-9.4416962698094121E-3,-1.1111089713506444E-2,-1.1983087551363011E-2,-1.1941597777188858E-2,-1.1000910161130148E-2,-1.10030915661365E-2,-1.2649524222622072E-2,-1.4616629001368068E-2,-1.7024159726248787E-2,-2.0101479944703241E-2,-2.4386473909215112E-2,-3.1786710878136108E-2,-4.8293295034109937E-2,-0.15731663791090411,-0.11236914483833836,-6.9291151666725712E-2,-4.6605002789854563E-2,-3.1939444807512991E-2,-2.1016489221777089E-2,-1.1997535238478515E-2,-3.9059090939214114E-3]
[-1.5182760397588701E-3,-4.5718877535842993E-3,-7.6635947188279582E-3,-1.0775472508864693E-2,-1.3828156461504823E-2,-1.6671098113223291E-2,-1.9099426949104863E-2,-2.0904543557271144E-2,-2.3039469963420045E-2,-2.6548253210037794E-2,-3.1208470895524299E-2,-3.777657233117275E-2,-4.7843403580534648E-2,-6.5313087753493149E-2,-0.10166797516380857,-0.13275540250483489,0,0,0,0,0,0,0,0]
[-1.82602049398699E-3,-5.4739271056445434E-3,-9.0907293055980248E-3,-1.2597683243934501E-2,-1.5846736521262044E-2,-1.8632911530180908E-2,-2.0743973016536649E-2,-2.2032041965829762E-2,-2.3853485392067823E-2,-2.7240571737182889E-2,-3.1518284113278165E-2,-3.7068460448567854E-2,-4.4373041109466688E-2,-5.3385185772699628E-2,-5.883738061426462E-2,-3.2892802947042298E-2,0,0,0,0,0,0,0,0]
[-2.1822840092605477E-3,-6.5017307579730167E-3,-1.0664584582580719E-2,-1.4507190615475604E-2,-1.7815432179380798E-2,-2.0369263961207976E-2,-2.2014571192256409E-2,-2.2721575998412822E-2,-2.4129362018892268E-2,-2.7105255513154652E-2,-3.0525658615828795E-2,-3.431035065615641E-2,-3.7957764027596166E-2,-3.9637410274110302E-2,-3.430628192030067E-2,-1.4640057571928999E-2,0,0,0,0,0,0,0,0]
[-2.5770380495728161E-3,-7.6180141981882672E-3,-1.2306307917854951E-2,-1.6380508612598384E-2,-1.959124460475381E-2,-2.1768020464965482E-2,-2.2877178164577627E-2,-2.3029773942012166E-2,-2.4007011659320485E-2,-2.6436006072678743E-2,-2.8869839299439367E-2,-3.0944191177544038E-2,-3.1835918879813657E-2,-2.9900649856341128E-2,-2.2662384902141126E-2,-8.6911788667136981E-3,0,0,0,0,0,0,0,0]
[-2.986142239016369E-3,-8.7480855802064533E-3,-1.3893207592704966E-2,-1.807177660921273E-2,-2.1054332814804226E-2,-2.2784006775206367E-2,-2.3377353831064991E-2,-2.3068799639186257E-2,-2.3665362110293957E-2,-2.5555332068724665E-2,-2.7121828869971568E-2,-2.7908013477292309E-2,-2.7153094208373738E-2,-2.3779860481714873E-2,-1.6757913483439451E-2,-6.114983873718575E-3,0,0,0,0,0,0,0,0]
[-3.3687164312529382E-3,-9.7790024085871174E-3,-1.5273254290655965E-2,-1.9444901518055391E-2,-2.2138776409193969E-2,-2.3443284967815378E-2,-2.3612989241904067E-2,-2.2966170827927269E-2,-2.3268866184014504E-2,-2.4718070377325839E-2,-2.5639221143611796E-2,-2.5584699572883243E-2,-2.3949531109099882E-2,-2.0078827701069352E-2,-1.3585579059668904E-2,-4.8328303250945049E-3,0,0,0,0,0,0,0,0]
[-3.6709319029992935E-3,-1.057517142343325E-2,-1.6294442588165058E-2,-2.0401711763680688E-2,-2.2836501631580814E-2,-2.3816673215901099E-2,-2.3694379518692198E-2,-2.2832874896653456E-2,-2.2940792830236142E-2,-2.4087996775767423E-2,-2.4597417960514904E-2,-2.4057620746839876E-2,-2.1989479888643859E-2,-1.7976093530464882E-2,-1.1897281261494608E-2,-4.1769433532367131E-3,0,0,0,0,0,0,0,0]
[-3.8391462087407203E-3,-1.1011249696606076E-2,-1.6837261085362321E-2,-2.0889647622712833E-2,-2.3173076368597664E-2,-2.3979931434379577E-2,-2.3710775661181668E-2,-2.2746650461425929E-2,-2.2758561510075569E-2,-2.3754187159763917E-2,-2.4065953415800811E-2,-2.3307450227181666E-2,-2.106409896937288E-2,-1.7021707445168097E-2,-1.1156027895875631E-2,-3.8945019546361604E-3,0,0,0,0,0,0,0,0]

{"sheet":"L_DS","index":7,"n_rows":5,"n_cols":24,"rows_kept":5,"cut":false,"hidden":false,"merged":[]}
[4.9150183159299534E-3,1.4442380718221955E-2,2.3131469840124676E-2,3.0631139773896109E-2,3.6819495323029076E-2,4.1765902897249206E-2,4.5647493118054397E-2,4.8671757706290571E-2,5.1510894574630352E-2,5.4635393394859802E-2,5.7626485200165667E-2,6.0255901090197468E-2,6.2245608739793408E-2,6.3326038787800978E-2,6.3326038787800965E-2,6.2245608739792409E-2,6.1199118096519636E-2,6.0690613995492089E-2,5.981250994234856E-2,5.8130432173202323E-2,5.4527013916717312E-2,4.6488491909297977E-2,3.1396870729756297E-2,1.0953752511184203E-2]
[3.6796149432432508E-3,1.0998348328232694E-2,1.818329426902579E-2,2.5107770111654631E-2,3.1603675250522274E-2,3.7479166846893022E-2,4.2566019578584281E-2,4.6775415795145686E-2,5.048897132560861E-2,5.4667330116448504E-2,5.9482894737525389E-2,6.4968268129258225E-2,7.0751475856538223E-2,7.5125660314131246E-2,7.5125660314131218E-2,7.0751475856537044E-2,6.7726842243835628E-2,6.5491071394406644E-2,5.8638860438369536E-2,4.7970020886791712E-2,3.6442206417499769E-2,2.5411082318408079E-2,1.4986090911589915E-2,4.9518832988817091E-3]
[1.0953752511184203E-2,3.1396870729756304E-2,4.6488491909297977E-2,5.4527013916717312E-2,5.813043217320233E-2,5.9812509942348567E-2,6.0690613995492082E-2,6.1199118096519643E-2,6.2245608739792908E-2,6.3326038787800978E-2,6.3326038787800965E-2,6.2245608739792908E-2,6.0255901090197933E-2,5.7626485200165646E-2,5.4635393394859767E-2,5.1510894574629915E-2,4.8671757706290564E-2,4.5647493118054397E-2,4.1765902897249199E-2,3.6819495323029076E-2,3.0631139773896109E-2,2.3131469840124676E-2,1.4442380718221957E-2,4.9150183159299542E-3]
[4.9518832988817083E-3,1.4986090911589913E-2,2.5411082318408079E-2,3.6442206417499776E-2,4.7970020886791712E-2,5.8638860438369536E-2,6.5491071394406644E-2,6.7726842243835642E-2,7.0751475856537627E-2,7.5125660314131232E-2,7.5125660314131218E-2,7.0751475856537641E-2,6.4968268129258711E-2,5.9482894737525362E-2,5.4667330116448462E-2,5.0488971325608194E-2,4.6775415795145686E-2,4.2566019578584288E-2,3.7479166846893022E-2,3.1603675250522274E-2,2.5107770111654628E-2,1.818329426902579E-2,1.0998348328232694E-2,3.6796149432432508E-3]
[5.5132102215802023E-3,1.6394294805420769E-2,2.675459007954074E-2,3.6039151393172014E-2,4.3655292629143208E-2,4.9321691208996397E-2,5.3228689592430316E-2,5.5825338263916099E-2,5.8644779372990001E-2,6.2167947750067946E-2,6.5077401846404759E-2,6.6771659654023444E-2,6.6771659654023971E-2,6.5077401846404731E-2,6.2167947750067926E-2,5.8644779372989522E-2,5.5825338263916092E-2,5.3228689592430316E-2,4.9321691208996404E-2,4.3655292629143201E-2,3.6039151393172021E-2,2.675459007954074E-2,1.6394294805420765E-2,5.5132102215802031E-3]

{"sheet":"M_DS","index":8,"n_rows":5,"n_cols":24,"rows_kept":5,"cut":false,"hidden":false,"merged":[]}
[-5.8467674313488508E-3,-1.6592139538236777E-2,-2.4797017474085952E-2,-2.9680331472758059E-2,-3.1417289623952752E-2,-3.0818436549945958E-2,-2.883320605506861E-2,-2.6222877830303113E-2,-3.427788665583411E-2,-4.1030536949481305E-2,-4.8358699296346216E-2,-5.5571023981606585E-2,-6.1551991062668857E-2,-6.5001796178356192E-2,-6.500179617835615E-2,-6.1551991062667837E-2,-1.8436879324618197E-2,-2.4609828263866835E-2,-3.4190484805697419E-2,-4.9342111719926425E-2,-7.0981971572128752E-2,-8.6544357554662721E-2,-6.6843367914682747E-2,-2.2497211640864975E-2]
[-2.4614678287401821E-3,-7.4515500706504884E-3,-1.2584193746442363E-2,-1.7756596188577192E-2,-2.2595770933549086E-2,-2.6491000806626804E-2,-2.8837019812088849E-2,-2.9374740374580842E-2,-2.4518562771931703E-2,-3.1314240491896329E-2,-4.1589747407938894E-2,-5.8101540144725738E-2,-8.4201704163426372E-2,-0.1127218653052518,-0.11272186530525148,-8.420170416342479E-2,-5.8578439888660579E-2,-7.840295720137648E-2,-7.2518382388809768E-2,-4.6075521149950352E-2,-2.5285949016784336E-2,-1.3512314412757956E-2,-6.6792770909624615E-3,-2.0235893816115394E-3]
[-2.2497211640864975E-2,-6.6843367914682747E-2,-8.6544357554662721E-2,-7.0981971572128752E-2,-4.9342111719926418E-2,-3.4190484805697419E-2,-2.4609828263866835E-2,-1.84368793246182E-2,-6.1551991062668343E-2,-6.5001796178356178E-2,-6.5001796178356164E-2,-6.1551991062668343E-2,-5.5571023981606994E-2,-4.8358699296346161E-2,-4.1030536949481257E-2,-3.4277886655833811E-2,-2.6222877830303106E-2,-2.883320605506861E-2,-3.0818436549945954E-2,-3.1417289623952752E-2,-2.9680331472758059E-2,-2.4797017474085945E-2,-1.659213953823678E-2,-5.8467674313488517E-3]
[-2.0235893816115394E-3,-6.6792770909624597E-3,-1.3512314412757956E-2,-2.5285949016784333E-2,-4.6075521149950345E-2,-7.2518382388809782E-2,-7.8402957201376494E-2,-5.8578439888660579E-2,-8.4201704163425581E-2,-0.11272186530525166,-0.11272186530525165,-8.4201704163425581E-2,-5.8101540144726134E-2,-4.1589747407938783E-2,-3.1314240491896267E-2,-2.4518562771931485E-2,-2.9374740374580842E-2,-2.8837019812088853E-2,-2.6491000806626801E-2,-2.2595770933549083E-2,-1.7756596188577192E-2,-1.2584193746442363E-2,-7.4515500706504884E-3,-2.4614678287401826E-3]
[-5.5548337585047212E-3,-1.6942377887327286E-2,-2.8492628379738413E-2,-3.835073954901342E-2,-4.3566373891878542E-2,-4.2977983681008629E-2,-3.8424085406490012E-2,-3.2557886180548154E-2,-4.8169696137760877E-2,-5.8922623784451567E-2,-6.9514644855808772E-2,-7.6526126587459359E-2,-7.6526126587459956E-2,-6.9514644855808702E-2,-5.892262378445149E-2,-4.8169696137760447E-2,-3.2557886180548154E-2,-3.8424085406490012E-2,-4.2977983681008622E-2,-4.3566373891878542E-2,-3.835073954901342E-2,-2.8492628379738413E-2,-1.6942377887327286E-2,-5.554833758504722E-3]

{"sheet":"Direct Solution","index":9,"n_rows":125,"n_cols":7,"rows_kept":125,"cut":false,"hidden":false,"merged":[[1,1,2,6],[7,1,7,3],[7,5,7,6],[8,1,8,2]]}
[]
[null,"Direct Solution"]
[]
[]
[]
[]
[]
[null,"Solution on S",null,null,null,"Solution in D"]
[null,"Number of panels",null,{"$f":"'Set Problem'!H9","v":24},null,"Number of points",{"$f":"'Set Problem'!R9","v":5}]
[null,"index","phi_S","d{\\phi}/dn",null,"index","phi_D"]
[null,{"$f":"'Set Problem'!B11","v":1},20,9.9862319166245008,null,1,12.4989884726289]
[null,{"$f":"'Set Problem'!B12","v":2},20,9.9935958492296422,null,2,12.49437016604544]
[null,{"$f":"'Set Problem'!B13","v":3},20,9.9914252535443371,null,3,17.501164881137754]
[null,{"$f":"'Set Problem'!B14","v":4},20,9.9882941196422941,null,4,17.506034256397193]
[null,{"$f":"'Set Problem'!B15","v":5},20,9.9741207193810091,null,5,15.000159015021428]
[null,{"$f":"'Set Problem'!B16","v":6},20,9.9576983553341591]
[null,{"$f":"'Set Problem'!B17","v":7},20,9.8156614125289732]
[null,{"$f":"'Set Problem'!B18","v":8},20,10.555284468357293]
[null,{"$f":"'Set Problem'!B19","v":9},19.412460330808816,0]
[null,{"$f":"'Set Problem'!B20","v":10},18.147335510281554,0]
[null,{"$f":"'Set Problem'!B21","v":11},16.887633266149646,0]
[null,{"$f":"'Set Problem'!B22","v":12},15.629743541978257,0]
[null,{"$f":"'Set Problem'!B23","v":13},14.372285214521586,0]
[null,{"$f":"'Set Problem'!B24","v":14},13.114351115793669,0]
[null,{"$f":"'Set Problem'!B25","v":15},11.85455380208067,0]
[null,{"$f":"'Set Problem'!B26","v":16},10.589261479052054,0]
[null,{"$f":"'Set Problem'!B27","v":17},10,-10.558147971698995]
[null,{"$f":"'Set Problem'!B28","v":18},10,-9.816927689253939]
[null,{"$f":"'Set Problem'!B29","v":19},10,-9.9585872158656166]
[null,{"$f":"'Set Problem'!B30","v":20},10,-9.9747412138745783]
[null,{"$f":"'Set Problem'!B31","v":21},10,-9.9887386478753495]
[null,{"$f":"'Set Problem'!B32","v":22},10,-9.9917535331641698]
[null,{"$f":"'Set Problem'!B33","v":23},10,-9.9938533528257363]
[null,{"$f":"'Set Problem'!B34","v":24},10,-9.9864560141566994]
[null,{"$f":"'Set Problem'!B35","v":25}]
[null,{"$f":"'Set Problem'!B36","v":0}]
[null,{"$f":"'Set Problem'!B37","v":0}]
[null,{"$f":"'Set Problem'!B38","v":0}]
[null,{"$f":"'Set Problem'!B39","v":0}]
[null,{"$f":"'Set Problem'!B40","v":0}]
[null,{"$f":"'Set Problem'!B41","v":0}]
[null,{"$f":"'Set Problem'!B42","v":0}]
[null,{"$f":"'Set Problem'!B43","v":0}]
[null,{"$f":"'Set Problem'!B44","v":0}]
[null,{"$f":"'Set Problem'!B45","v":0}]
[null,{"$f":"'Set Problem'!B46","v":0}]
[null,{"$f":"'Set Problem'!B47","v":0}]
[null,{"$f":"'Set Problem'!B48","v":0}]
[null,{"$f":"'Set Problem'!B49","v":0}]
[null,{"$f":"'Set Problem'!B50","v":0}]
[null,{"$f":"'Set Problem'!B51","v":0}]
[null,{"$f":"'Set Problem'!B52","v":0}]
[null,{"$f":"'Set Problem'!B53","v":0}]
[null,{"$f":"'Set Problem'!B54","v":0}]
[null,{"$f":"'Set Problem'!B55","v":0}]
[null,{"$f":"'Set Problem'!B56","v":0}]
[null,{"$f":"'Set Problem'!B57","v":0}]
[null,{"$f":"'Set Problem'!B58","v":0}]
[null,{"$f":"'Set Problem'!B59","v":0}]
[null,{"$f":"'Set Problem'!B60","v":0}]
[null,{"$f":"'Set Problem'!B61","v":0}]
[null,{"$f":"'Set Problem'!B62","v":0}]
[null,{"$f":"'Set Problem'!B63","v":0}]
[null,{"$f":"'Set Problem'!B64","v":0}]
[null,{"$f":"'Set Problem'!B65","v":0}]
[null,{"$f":"'Set Problem'!B66","v":0}]
[null,{"$f":"'Set Problem'!B67","v":0}]
[null,{"$f":"'Set Problem'!B68","v":0}]
[null,{"$f":"'Set Problem'!B69","v":0}]
[null,{"$f":"'Set Problem'!B70","v":0}]
[null,{"$f":"'Set Problem'!B71","v":0}]
[null,{"$f":"'Set Problem'!B72","v":0}]
[null,{"$f":"'Set Problem'!B73","v":0}]
[null,{"$f":"'Set Problem'!B74","v":0}]
[null,{"$f":"'Set Problem'!B75","v":0}]
[null,{"$f":"'Set Problem'!B76","v":0}]
[null,{"$f":"'Set Problem'!B77","v":0}]
[null,{"$f":"'Set Problem'!B78","v":0}]
[null,{"$f":"'Set Problem'!B79","v":0}]
[null,{"$f":"'Set Problem'!B80","v":0}]
[null,{"$f":"'Set Problem'!B81","v":0}]
[null,{"$f":"'Set Problem'!B82","v":0}]
[null,{"$f":"'Set Problem'!B83","v":0}]
[null,{"$f":"'Set Problem'!B84","v":0}]
[null,{"$f":"'Set Problem'!B85","v":0}]
[null,{"$f":"'Set Problem'!B86","v":0}]
[null,{"$f":"'Set Problem'!B87","v":0}]
[null,{"$f":"'Set Problem'!B88","v":0}]
[null,{"$f":"'Set Problem'!B89","v":0}]
[null,{"$f":"'Set Problem'!B90","v":0}]
[null,{"$f":"'Set Problem'!B91","v":0}]
[null,{"$f":"'Set Problem'!B92","v":0}]
[null,{"$f":"'Set Problem'!B93","v":0}]
[null,{"$f":"'Set Problem'!B94","v":0}]
[null,{"$f":"'Set Problem'!B95","v":0}]
[null,{"$f":"'Set Problem'!B96","v":0}]
[null,{"$f":"'Set Problem'!B97","v":0}]
[null,{"$f":"'Set Problem'!B98","v":0}]
[null,{"$f":"'Set Problem'!B99","v":0}]
[null,{"$f":"'Set Problem'!B100","v":0}]
[null,{"$f":"'Set Problem'!B101","v":0}]
[null,{"$f":"'Set Problem'!B102","v":0}]
[null,{"$f":"'Set Problem'!B103","v":0}]
[null,{"$f":"'Set Problem'!B104","v":0}]
[null,{"$f":"'Set Problem'!B105","v":0}]
[null,{"$f":"'Set Problem'!B106","v":0}]
[null,{"$f":"'Set Problem'!B107","v":0}]
[null,{"$f":"'Set Problem'!B108","v":0}]
[null,{"$f":"'Set Problem'!B109","v":0}]
[null,{"$f":"'Set Problem'!B110","v":0}]
[null,{"$f":"'Set Problem'!B111","v":0}]
[null,{"$f":"'Set Problem'!B112","v":0}]
[null,{"$f":"'Set Problem'!B113","v":0}]
[null,{"$f":"'Set Problem'!B114","v":0}]
[null,{"$f":"'Set Problem'!B115","v":0}]
[null,{"$f":"'Set Problem'!B116","v":0}]
[null,{"$f":"'Set Problem'!B117","v":0}]
[null,{"$f":"'Set Problem'!B118","v":0}]
[null,{"$f":"'Set Problem'!B119","v":0}]
[null,{"$f":"'Set Problem'!B120","v":0}]
[null,{"$f":"'Set Problem'!B121","v":0}]
[null,{"$f":"'Set Problem'!B122","v":0}]
[null,{"$f":"'Set Problem'!B123","v":0}]
[null,{"$f":"'Set Problem'!B124","v":0}]
[null,{"$f":"'Set Problem'!B125","v":0}]

{"sheet":"A_gls","index":10,"n_rows":24,"n_cols":24,"rows_kept":24,"cut":false,"hidden":false,"merged":[]}
[-5.8289820043809594E-2,-6.4634903454114753E-2,-6.3167685717672312E-2,-6.282950241193884E-2,-6.2696721341829464E-2,-6.2630829153989653E-2,-6.259332116440923E-2,-6.2569931238824178E-2,-6.2194125810750366E-2,-5.9389334014564837E-2,-5.437450174711022E-2,-4.8068754302487943E-2,-4.1374581648130043E-2,-3.4958836911235601E-2,-2.9201584914892019E-2,-2.4250542211817504E-2,-4.2709353182464146E-2,-3.9365369422599793E-2,-3.5351849819036898E-2,-3.0577868877058389E-2,-2.4985811136014363E-2,-1.8583580814385069E-2,-1.1476733071427695E-2,-3.883676282357528E-3]
[0.38164243155900779,-5.7878640920522265E-2,-4.6137252480866545E-2,-4.1820666824030156E-2,-4.0453217560916216E-2,-3.9822110804066266E-2,-3.9475213264533973E-2,-3.9263138310153087E-2,-3.991797026057585E-2,-3.7858551730142118E-2,-3.426453953289612E-2,-2.9894220399333489E-2,-2.5418110199333658E-2,-2.1266908681258537E-2,-1.7641100580735834E-2,-1.4586139957086759E-2,-2.6301263334666869E-2,-2.4190240195078247E-2,-2.166450235700975E-2,-1.8676851037219871E-2,-1.5204833115730544E-2,-1.1267344291360596E-2,-6.9373573492253326E-3,-2.343509443325122E-3]
[0.21901572965663593,0.4939112297353927,-5.6338187571736156E-2,-4.0399896764238462E-2,-3.4806962396259536E-2,-3.2823667002436503E-2,-3.1838487152974264E-2,-3.126715239809838E-2,-3.3503207901931731E-2,-3.1216977273029058E-2,-2.7438041476107157E-2,-2.3173430268633086E-2,-1.9138967618773581E-2,-1.5658316016206594E-2,-1.2792358034217934E-2,-1.0482074060509893E-2,-2.0029976332538446E-2,-1.8332569360030616E-2,-1.6317891782752225E-2,-1.396569868018049E-2,-1.1279998945393915E-2,-8.2953935733987814E-3,-5.0762784688843845E-3,-1.7089233242831743E-3]
[0.15478848908351925,0.31723899285586671,0.52337596145380127,-5.5595752680794558E-2,-3.7782323350369101E-2,-3.1499225926200726E-2,-2.9137745848218051E-2,-2.7914266279892741E-2,-3.2599531239508359E-2,-2.93145081041295E-2,-2.4356074697089204E-2,-1.9398403353972117E-2,-1.5256969309723201E-2,-1.2055672280640348E-2,-9.6399140358855717E-3,-7.8125481418528254E-3,-1.6574027873891152E-2,-1.5053820526619816E-2,-1.3275343593734786E-2,-1.1242311156121215E-2,-8.9812768107785917E-3,-6.5385030880248975E-3,-3.9700813588310277E-3,-1.3308471774907422E-3]
[0.11988587836173936,0.2381443849999117,0.34890993034986889,0.53720439806564324,-5.5189951112371516E-2,-3.6294317657485115E-2,-2.9578588953035556E-2,-2.6962459720336576E-2,-3.5731829669156612E-2,-2.9916400827025388E-2,-2.2382749342414417E-2,-1.6154784637908023E-2,-1.1814641857980847E-2,-8.9268802016703834E-3,-6.980235918023537E-3,-5.6179344482849853E-3,-1.4214275046118247E-2,-1.2777430637325712E-2,-1.113353762101691E-2,-9.3079916069224583E-3,-7.3431628701624216E-3,-5.2879831272627589E-3,-3.1852032333430681E-3,-1.0632460266631E-3]
[9.7883179913163337E-2,0.19161977241610384,0.26880344019541341,0.36504689723363498,0.54507782298731622,-5.4923342171479747E-2,-3.5339201837661871E-2,-2.8326585519216553E-2,-4.471339047465403E-2,-3.1941814774619118E-2,-1.9476206744766425E-2,-1.194289101150562E-2,-7.9162836241056418E-3,-5.7258724003962022E-3,-4.4442140325623332E-3,-3.6228424303538335E-3,-1.2384397071428226E-2,-1.0992081368228525E-2,-9.4466026676635166E-3,-7.7893872874796426E-3,-6.0684932601260469E-3,-4.325774210043782E-3,-2.5872335405196364E-3,-8.6053199844505308E-4]
[8.2725321059747697E-2,0.16064420161484635,0.22047337307956696,0.28540714236356068,0.37474811153857213,0.5503499558671926,-5.4733538056250586E-2,-3.4668588051007816E-2,-6.7166998074840084E-2,-3.1057065931155661E-2,-1.1940596919582665E-2,-5.4129065708345622E-3,-3.184938959274887E-3,-2.3488646024222466E-3,-1.984105165359306E-3,-1.7839770568159625E-3,-1.0840201869579267E-2,-9.4854991125817578E-3,-8.0355942953503415E-3,-6.53849626245534E-3,-5.0373230766332273E-3,-3.5604258957263098E-3,-2.1176293242232969E-3,-7.0240875559290624E-4]
[7.1641810351722568E-2,0.13843394720898691,0.18757853373270611,0.23684373668913405,0.2957884780056888,0.3813709160428449,0.55405576822259894,-5.4593936002740595E-2,-0.12917490079546434,-3.1451415586582765E-3,4.6260596241521693E-3,3.3353582240415805E-3,1.8895234869197863E-3,8.860271438908239E-4,2.3469083868964818E-4,-1.7831697002590463E-4,-9.4747994361120691E-3,-8.170694499909939E-3,-6.8286379455501436E-3,-5.4927458410100952E-3,-4.1938812845369582E-3,-2.9455116431856936E-3,-1.7449699450383322E-3,-5.7771135755813529E-4]
[6.7013110335712042E-2,0.12923172323479781,0.17422615102786743,0.21791056232607628,0.26743056614747446,0.33257515133331705,0.43483135307816323,0.61317589146111229,0.60681370965599746,2.2969158609773589E-2,8.5919577721500356E-3,3.8483051760731073E-3,1.7111259396003671E-3,5.9925010329886161E-4,-1.9835004420470231E-5,-3.7196354190449643E-4,-7.672780037505128E-3,-6.6279627290883984E-3,-5.541350846957397E-3,-4.4554056236325267E-3,-3.3992875336545138E-3,-2.3856342168115021E-3,-1.4124735243585358E-3,-4.6748768488875632E-4]
[6.5978556750117864E-2,0.12703953124931036,0.17057231962655023,0.21160106898741854,0.25545101704725737,0.30628228253150108,0.36372544705116322,0.39842226479759496,0.14620615289555858,0.49857888790513927,-1.0855770162333592E-3,-1.497813413202289E-3,-2.0514531637902643E-3,-2.3461908560531569E-3,-2.4516392621202893E-3,-2.4363706594749141E-3,-1.3019124540888022E-2,-1.1367664761497632E-2,-9.5735732482907752E-3,-7.7318359846154962E-3,-5.9135096677071872E-3,-4.1550468272993843E-3,-2.4613086958542993E-3,-8.1475192252201739E-4]
[6.4047341542329175E-2,0.12299864735932532,0.16404066359073707,0.20092480326724352,0.23705521875013166,0.27273013793923917,0.30227106371070245,0.30937131577935933,0.12768902104554944,2.189328207156541E-2,0.48052092435367239,-1.009961210963917E-2,-7.2407730673882988E-3,-6.1672621582992363E-3,-5.4985690361828796E-3,-4.9650840695388155E-3,-1.8915085707719916E-2,-1.6576175987865246E-2,-1.396493572223409E-2,-1.1260887612564188E-2,-8.5937435346199863E-3,-6.0260518039694094E-3,-3.5644080800604728E-3,-1.1790175223076482E-3]
[6.1447603983428606E-2,0.11765208227209484,0.15574655695552223,0.18828233629303157,0.21756642399406143,0.24289574833608321,0.2599819048593095,0.26173400236582317,0.11482760392463677,2.9334664018717583E-2,-1.0438294198837024E-2,0.47188561144869029,-1.5785514395401462E-2,-1.1380265205649791E-2,-9.3548585796217418E-3,-8.0393454247159359E-3,-2.529126002133391E-2,-2.2149297565976004E-2,-1.8569373272146496E-2,-1.4879504020335964E-2,-1.1289558978440155E-2,-7.8813818402768687E-3,-4.64844726334648E-3,-1.5354485552862376E-3]
[5.8431890250727925E-2,0.11156274232504521,0.14669430499993771,0.17539675366063384,0.19956031329513671,0.21868615718500747,0.23032172480022342,0.2314395134101189,0.10542106953188853,3.1546321922641882E-2,9.2450004684562013E-4,-2.7294292714166363E-2,0.46628894673270815,-1.988441538973424E-2,-1.4547992494033221E-2,-1.1882475184927948E-2,-3.2582125096024067E-2,-2.8358057832118241E-2,-2.3497739245975202E-2,-1.8607317989275562E-2,-1.3986549953364914E-2,-9.7014800868717947E-3,-5.6996519620450166E-3,-1.8792554226899935E-3]
[5.5224996566308908E-2,0.10519528780453408,0.13758326572344814,0.16316180994753385,0.18372425234062958,0.19920129840468001,0.20835312171528794,0.20990368922318542,9.8096356704256329E-2,3.2197795742883312E-2,6.1510392402690075E-3,-1.4253855650494952E-2,-3.8544990042845048E-2,0.46220596701280492,-2.3032938713073013E-2,-1.7060151928016222E-2,-4.1477575976824291E-2,-3.5500777518856518E-2,-2.8761194874619974E-2,-2.2363349011623186E-2,-1.6604570026213562E-2,-1.1430686096635539E-2,-6.6870814208532924E-3,-2.2006448979820219E-3]
[5.1998666043391151E-2,9.8878150528377562E-2,0.12882164449877648,0.1519216670204239,0.16997080642364423,0.18325014374324541,0.19122039283647779,0.19339631215707315,9.210861148353941E-2,3.2210458848521806E-2,9.2227269128268615E-3,-7.6342375707275627E-3,-2.4408120490211339E-2,-4.6879557569078883E-2,0.45904199130845552,-2.5544507508282945E-2,-5.3402907288746942E-2,-4.3757138055404307E-2,-3.4084885007808367E-2,-2.5893034789035596E-2,-1.8981942972027599E-2,-1.2978020957485244E-2,-7.5655202617443884E-3,-2.4860033778420407E-3]
[4.8868731049661558E-2,9.2816011000938073E-2,0.12061222151042195,0.14174175337285477,0.15800051958565534,0.16989821511635073,0.17728627042061398,0.18005508535246537,8.7031078362803743E-2,3.1918317712147419E-2,1.1235342602629329E-2,-3.3671118279801375E-3,-1.6874810562846683E-2,-3.1908888992292966E-2,-5.340632719104204E-2,0.45649851751735804,-7.2222915886926559E-2,-5.1999396523423329E-2,-3.854444146127891E-2,-2.8737738907829373E-2,-2.0899821604715402E-2,-1.4237926111571854E-2,-8.2866753488759059E-3,-2.7213118054241195E-3]
[4.8858922377292037E-2,9.2679689504527901E-2,0.12008780704594546,0.14051261190574113,0.15576222527659692,0.1664439533796091,0.17260299043401039,0.17438248320619712,8.3528206688004522E-2,2.889003317444222E-2,7.0030150930886102E-3,-1.0168057451699819E-2,-2.8986374036412035E-2,-5.7064377666136069E-2,-0.1248612705839552,-0.47259843469089763,-0.1411369463095247,-9.2123509015913388E-2,-6.6000267895126266E-2,-4.8686274147346907E-2,-3.5235212813073229E-2,-2.3942645830419666E-2,-1.3916158622094842E-2,-4.567307797993159E-3]
[5.1961163915332217E-2,9.8357419163479676E-2,0.12682312101574686,0.1472600632521342,0.16155669878373941,0.17045527371761182,0.17426239679680636,0.17350910122890775,8.0661236701220662E-2,2.3268693955756928E-2,-2.5775837657558047E-3,-2.5656833799341552E-2,-5.3976836324946181E-2,-9.7537119878213341E-2,-0.17609252107328466,-0.29202319740125027,0.74433721191672353,-5.5271566790844898E-2,-2.9695043015302632E-2,-1.881808312900389E-2,-1.2810637932764858E-2,-8.4353179243472909E-3,-4.8212672688892552E-3,-1.5706160897923857E-3]
[5.5146494832727509E-2,0.1041062761953313,0.13341286593669199,0.15347447261054556,0.16636401241670148,0.17311904950348347,0.17446038284094106,0.1713689896544934,7.7577195576791783E-2,1.8285794305763013E-2,-1.0395424262112858E-2,-3.6888753815122168E-2,-6.8315085213799379E-2,-0.11004112697333583,-0.16430592078484024,-0.21607305706394392,0.6263376686161074,0.62698987174497001,-5.3277699370435763E-2,-2.7003719084509076E-2,-1.6054573483072737E-2,-1.0041899252242793E-2,-5.6030714619065454E-3,-1.8071049479169094E-3]
[5.8297226798170551E-2,0.10969621201755149,0.13955759372030982,0.15885336872596728,0.16999088183089908,0.17446608835551719,0.17349752928533829,0.16847090514866558,7.4646088013934755E-2,1.4373152219030244E-2,-1.5870459822633944E-2,-4.3493287933125062E-2,-7.4040147343443691E-2,-0.10936498725725702,-0.1470992152632527,-0.17770263502754582,0.56073646106686481,0.48497542615646499,0.61128627164841887,-5.2401870644814344E-2,-2.5302897313852699E-2,-1.3887223684639148E-2,-7.3990479344194348E-3,-2.3452214904331825E-3]
[6.124324148006511E-2,0.11482126752468068,0.14492738829788826,0.16316359933565119,0.17242137906184402,0.1747524439914179,0.17184978887917293,0.16538131356060598,7.2127300917342652E-2,1.1593970037480559E-2,-1.9252613652003637E-2,-4.6717632398230596E-2,-7.5181924283918039E-2,-0.10503602789512416,-0.13366673205966575,-0.15563892007002481,0.51835080708100378,0.4233781416036686,0.4678596243951092,0.61083178960390461,-5.1780193073146109E-2,-2.3414315217961057E-2,-1.1020947059238975E-2,-3.369984423722848E-3]
[6.3767483709324682E-2,0.11912334106930619,0.14921477401011343,0.16629982837998272,0.17382870807270973,0.17439223568875722,0.17004807435263614,0.16261203415160075,7.0169657770019267E-2,9.788828470618573E-3,-2.1127060102808754E-2,-4.7987475917598284E-2,-7.4522286921023861E-2,-0.10068737837500902,-0.12439553624004315,-0.14233185204670684,0.49045780720653237,0.38935752692549253,0.40948734783938301,0.47057912048828809,0.61970164215987322,-5.0978327320170734E-2,-2.0203711502561349E-2,-5.547399890002685E-3]
[6.5632130966209526E-2,0.12224266333733504,0.15218552789501452,0.16829154996692175,0.17450772988712354,0.17383743618480807,0.16856365455289077,0.1605553855100246,6.884377662048749E-2,8.737584505549784E-3,-2.2053432635162084E-2,-4.833875705724261E-2,-7.3532841977226621E-2,-9.7515714699728528E-2,-0.11864038740679621,-0.13460925535477397,0.47330432090056129,0.37024973444103798,0.38055695697513714,0.41804875548881842,0.48799534212295692,0.64000176536298581,-4.9224516474879403E-2,-1.2142868227039425E-2]
[6.662700758792231E-2,0.12388512851212026,0.15370014299711143,0.16924387843803046,0.17475572382301338,0.17345784451754215,0.16773476650221147,0.15946573858898935,6.8176887299821423E-2,8.260201471959638E-3,-2.2420768636977288E-2,-4.8378848089019898E-2,-7.2904081073234067E-2,-9.5882933342555904E-2,-0.11588873939702611,-0.13103516769773296,0.46510047011738737,0.36151383211834964,0.36806907248790371,0.39753651852115035,0.44802905130849557,0.52984842541500121,0.69610837701794115,-4.0571240433777148E-2]

{"sheet":"B_gls","index":11,"n_rows":24,"n_cols":24,"rows_kept":24,"cut":false,"hidden":false,"merged":[]}
[-0.5,0,0,0,0,0,0,0,6.2398131581932283E-2,6.1446766941005315E-2,5.9667943713049641E-2,5.7267968027061238E-2,5.4477284213126941E-2,5.1503101279574005E-2,4.8505338364090399E-2,4.5592924506822313E-2,2.2746650461425929E-2,2.3710775661181668E-2,2.397993143437958E-2,2.3173076368597664E-2,2.0889647622712833E-2,1.6837261085362317E-2,1.1011249696606074E-2,3.8391462087407208E-3]
[0,-0.5,0,0,0,0,0,0,6.2885483563559053E-2,6.1868045149167786E-2,5.9980442328536825E-2,5.7460871838262415E-2,5.4564529787249079E-2,5.1510213957926217E-2,4.8458783406945656E-2,4.5514632075996451E-2,2.2832874896653459E-2,2.3694379518692198E-2,2.3816673215901099E-2,2.2836501631580814E-2,2.0401711763680688E-2,1.6294442588165058E-2,1.0575171423433252E-2,3.6709319029992931E-3]
[0,0,-0.5,0,0,0,0,0,6.3913112812743908E-2,6.2743708794462866E-2,6.0612377267604343E-2,5.7834350438665368E-2,5.4718475065435493E-2,5.1503928953212638E-2,4.8349086960279605E-2,4.5346196732959893E-2,2.2966170827927269E-2,2.3612989241904071E-2,2.3443284967815375E-2,2.2138776409193969E-2,1.9444901518055391E-2,1.5273254290655963E-2,9.7790024085871174E-3,3.3687164312529382E-3]
[0,0,0,-0.5,0,0,0,0,6.5605714099043436E-2,6.414502434157475E-2,6.1570262842536347E-2,5.8353515949943251E-2,5.48910192156081E-2,5.1440228114157716E-2,4.8142643842172241E-2,4.5064593943900236E-2,2.3068799639186257E-2,2.3377353831064988E-2,2.2784006775206374E-2,2.1054332814804223E-2,1.8071776609212734E-2,1.3893207592704966E-2,8.7480855802064515E-3,2.986142239016369E-3]
[0,0,0,0,-0.5,0,0,0,6.8212591982415929E-2,6.618844995165131E-2,6.2835040107046311E-2,5.8935114263581043E-2,5.4992392023697621E-2,5.1247179400150049E-2,4.7789301911222798E-2,4.4637695133764574E-2,2.3029773942012166E-2,2.2877178164577627E-2,2.1768020464965482E-2,1.959124460475381E-2,1.6380508612598384E-2,1.2306307917854951E-2,7.6180141981882664E-3,2.5770380495728161E-3]
[0,0,0,0,0,-0.5,0,0,7.2248204465108601E-2,6.9020772663514737E-2,6.4285613550527476E-2,5.939740076177849E-2,5.4873651700627038E-2,5.0823900491632823E-2,4.7226562224603578E-2,4.4028933371293731E-2,2.2721575998412818E-2,2.2014571192256412E-2,2.0369263961207976E-2,1.7815432179380798E-2,1.4507190615475606E-2,1.0664584582580718E-2,6.5017307579730158E-3,2.1822840092605477E-3]
[0,0,0,0,0,0,-0.5,0,7.8920440899484842E-2,7.2622482022212831E-2,6.5492651387353482E-2,5.9393091189618559E-2,5.4323513239255938E-2,5.00525538208259E-2,4.6391117579509526E-2,4.3205481536370202E-2,2.2032041965829759E-2,2.0743973016536649E-2,1.8632911530180905E-2,1.5846736521262044E-2,1.2597683243934501E-2,9.0907293055980248E-3,5.4739271056445434E-3,1.82602049398699E-3]
[0,0,0,0,0,0,0,-0.5,9.1627402721453435E-2,7.5507810785520921E-2,6.5379999921867937E-2,5.8420890797469621E-2,5.3119463448940848E-2,4.8833699449139741E-2,4.5238883602386794E-2,4.2149112900461402E-2,2.0904543557271147E-2,1.9099426949104867E-2,1.6671098113223291E-2,1.3828156461504822E-2,1.0775472508864691E-2,7.6635947188279591E-3,4.5718877535842984E-3,1.5182760397588699E-3]
[2.4700814457654367E-4,7.9603595546408833E-4,1.5407884057144613E-3,2.7495041890315537E-3,5.0997933831157596E-3,1.086898038116949E-2,3.1963739320743229E-2,0.17260679501135312,0.11628170028243931,8.3574248460750469E-2,6.8968373102124669E-2,6.062051347594373E-2,5.4676663623069492E-2,5.0035231402686564E-2,4.6220754807024582E-2,4.298423790885543E-2,2.1536675778340585E-2,1.933585914019316E-2,1.6565082246121715E-2,1.3497584337255477E-2,1.0357640670017427E-2,7.2791577100996697E-3,4.3077709478717436E-3,1.4248160674856993E-3]
[7.0672837858311473E-4,2.263845810690585E-3,4.3203082799322338E-3,7.49715167391409E-3,1.313950459748346E-2,2.4576184425572738E-2,4.977509945668758E-2,9.1807122619242079E-2,8.3574248460750469E-2,0.11628170028243931,8.3574248460750469E-2,6.8968373102124669E-2,6.0620513475944202E-2,5.4676663623069048E-2,5.0035231402686564E-2,4.6220754807024228E-2,2.4796040803155516E-2,2.2072399360516481E-2,1.8610993769940094E-2,1.4873033720551414E-2,1.1195906117394266E-2,7.7415120149618086E-3,4.5287767881888345E-3,1.4890158888135085E-3]
[1.0761120750969111E-3,3.4117467068183025E-3,6.3603170029261835E-3,1.0566429819684003E-2,1.7111138816016114E-2,2.7678273356060941E-2,4.3511758086562623E-2,5.9983695477773775E-2,6.8968373102124683E-2,8.3574248460750469E-2,0.11628170028243931,8.3574248460750469E-2,6.8968373102125197E-2,6.0620513475943681E-2,5.4676663623069048E-2,5.0035231402686176E-2,2.9110010801800243E-2,2.5525724227905899E-2,2.0970280117742598E-2,1.6262686589758549E-2,1.1901356688519453E-2,8.0437235100013424E-3,4.6323631468337288E-3,1.5110576035821668E-3]
[1.3284527507862246E-3,4.1614326537155006E-3,7.5565367032822866E-3,1.1995044895592385E-2,1.8062057567622469E-2,2.6219422375862632E-2,3.5940190188753642E-2,4.4334854278145763E-2,6.062051347594373E-2,6.8968373102124683E-2,8.3574248460750469E-2,0.11628170028243931,8.3574248460751066E-2,6.89683731021246E-2,6.0620513475943681E-2,5.4676663623068632E-2,3.5156316805362603E-2,3.000762753480796E-2,2.360470166961064E-2,1.747360353428035E-2,1.2278307017614584E-2,8.0461366450134495E-3,4.5406848694926243E-3,1.466453611329853E-3]
[1.4664536113298534E-3,4.540684869492626E-3,8.0461366450134478E-3,1.2278307017614584E-2,1.7473603534280346E-2,2.3604701669610626E-2,3.0007627534807936E-2,3.5156316805362575E-2,5.4676663623069062E-2,6.0620513475943709E-2,6.8968373102124642E-2,8.3574248460750372E-2,0.1162817002824401,8.3574248460750386E-2,6.8968373102124628E-2,6.0620513475943258E-2,4.4334854278145805E-2,3.5940190188753676E-2,2.6219422375862639E-2,1.8062057567622466E-2,1.1995044895592381E-2,7.5565367032822831E-3,4.1614326537154989E-3,1.3284527507862239E-3]
[1.5110576035821668E-3,4.6323631468337279E-3,8.0437235100013407E-3,1.1901356688519448E-2,1.6262686589758539E-2,2.0970280117742574E-2,2.5525724227905867E-2,2.9110010801800201E-2,5.0035231402686557E-2,5.4676663623069041E-2,6.0620513475943667E-2,6.89683731021246E-2,8.3574248460751066E-2,0.11628170028243934,8.3574248460750469E-2,6.896837310212417E-2,5.9983695477773949E-2,4.3511758086562692E-2,2.7678273356060941E-2,1.7111138816016096E-2,1.0566429819683986E-2,6.3603170029261713E-3,3.4117467068182955E-3,1.0761120750969089E-3]
[1.4890158888135078E-3,4.5287767881888328E-3,7.7415120149618068E-3,1.1195906117394258E-2,1.4873033720551402E-2,1.8610993769940076E-2,2.207239936051646E-2,2.4796040803155492E-2,4.6220754807024582E-2,5.0035231402686557E-2,5.4676663623069041E-2,6.0620513475943667E-2,6.8968373102125197E-2,8.3574248460750469E-2,0.11628170028243934,8.3574248460749873E-2,9.1807122619242482E-2,4.977509945668758E-2,2.4576184425572686E-2,1.3139504597483408E-2,7.4971516739140587E-3,4.3203082799322147E-3,2.2638458106905737E-3,7.0672837858311137E-4]
[1.4248160674856991E-3,4.3077709478717419E-3,7.2791577100996671E-3,1.0357640670017423E-2,1.349758433725547E-2,1.6565082246121712E-2,1.9335859140193149E-2,2.1536675778340578E-2,4.298423790885577E-2,4.6220754807024603E-2,5.0035231402686564E-2,5.4676663623069062E-2,6.0620513475944222E-2,6.8968373102124739E-2,8.3574248460750566E-2,0.11628170028243853,0.17260679501135362,3.1963739320743041E-2,1.0868980381169409E-2,5.0997933831157197E-3,2.7495041890315316E-3,1.5407884057144496E-3,7.9603595546408237E-4,2.4700814457654166E-4]
[1.5182760397588701E-3,4.5718877535842993E-3,7.6635947188279582E-3,1.0775472508864693E-2,1.3828156461504823E-2,1.6671098113223291E-2,1.9099426949104863E-2,2.0904543557271144E-2,4.2149112900461749E-2,4.5238883602386815E-2,4.8833699449139768E-2,5.3119463448940432E-2,5.8420890797470114E-2,6.5379999921868021E-2,7.5507810785521004E-2,9.1627402721452755E-2,-0.5,0,0,0,0,0,0,0]
[1.82602049398699E-3,5.4739271056445434E-3,9.0907293055980248E-3,1.2597683243934501E-2,1.5846736521262044E-2,1.8632911530180908E-2,2.0743973016536649E-2,2.2032041965829762E-2,4.3205481536370556E-2,4.6391117579509554E-2,5.0052553820825942E-2,5.4323513239255522E-2,5.9393091189619052E-2,6.5492651387353537E-2,7.2622482022212886E-2,7.8920440899484232E-2,0,-0.5,0,0,0,0,0,0]
[2.1822840092605477E-3,6.5017307579730167E-3,1.0664584582580719E-2,1.4507190615475604E-2,1.7815432179380798E-2,2.0369263961207976E-2,2.2014571192256409E-2,2.2721575998412822E-2,4.4028933371294106E-2,4.7226562224603599E-2,5.0823900491632844E-2,5.4873651700626622E-2,5.9397400761778983E-2,6.4285613550527532E-2,6.9020772663514779E-2,7.2248204465108046E-2,0,0,-0.5,0,0,0,0,0]
[2.5770380495728161E-3,7.6180141981882672E-3,1.2306307917854951E-2,1.6380508612598384E-2,1.959124460475381E-2,2.1768020464965482E-2,2.2877178164577627E-2,2.3029773942012166E-2,4.4637695133764949E-2,4.7789301911222812E-2,5.1247179400150084E-2,5.4992392023697198E-2,5.8935114263581521E-2,6.2835040107046325E-2,6.6188449951651337E-2,6.8212591982415402E-2,0,0,0,-0.5,0,0,0,0]
[2.986142239016369E-3,8.7480855802064533E-3,1.3893207592704966E-2,1.807177660921273E-2,2.1054332814804226E-2,2.2784006775206367E-2,2.3377353831064991E-2,2.3068799639186257E-2,4.5064593943900597E-2,4.8142643842172268E-2,5.1440228114157743E-2,5.489101921560767E-2,5.8353515949943723E-2,6.1570262842536382E-2,6.4145024341574763E-2,6.5605714099042922E-2,0,0,0,0,-0.5,0,0,0]
[3.3687164312529382E-3,9.7790024085871174E-3,1.5273254290655965E-2,1.9444901518055391E-2,2.2138776409193969E-2,2.3443284967815378E-2,2.3612989241904067E-2,2.2966170827927269E-2,4.534619673296026E-2,4.8349086960279626E-2,5.1503928953212666E-2,5.4718475065435056E-2,5.7834350438665832E-2,6.0612377267604364E-2,6.274370879446288E-2,6.3913112812743395E-2,0,0,0,0,0,-0.5,0,0]
[3.6709319029992935E-3,1.057517142343325E-2,1.6294442588165058E-2,2.0401711763680688E-2,2.2836501631580814E-2,2.3816673215901099E-2,2.3694379518692198E-2,2.2832874896653456E-2,4.5514632075996826E-2,4.8458783406945677E-2,5.1510213957926237E-2,5.4564529787248656E-2,5.7460871838262886E-2,5.9980442328536845E-2,6.18680451491678E-2,6.2885483563558553E-2,0,0,0,0,0,0,-0.5,0]
[3.8391462087407203E-3,1.1011249696606076E-2,1.6837261085362321E-2,2.0889647622712833E-2,2.3173076368597664E-2,2.3979931434379577E-2,2.3710775661181668E-2,2.2746650461425929E-2,4.5592924506822688E-2,4.8505338364090426E-2,5.1503101279574033E-2,5.4477284213126517E-2,5.7267968027061709E-2,5.9667943713049648E-2,6.1446766941005336E-2,6.2398131581931783E-2,0,0,0,0,0,0,0,-0.5]

{"sheet":"perm xory","index":12,"n_rows":27,"n_cols":4,"rows_kept":27,"cut":false,"hidden":false,"merged":[]}
[]
[null,"perm",null,"xory"]
[]
[null,1,null,false]
[null,2,null,false]
[null,3,null,false]
[null,4,null,false]
[null,5,null,false]
[null,6,null,false]
[null,7,null,false]
[null,8,null,false]
[null,9,null,true]
[null,10,null,true]
[null,11,null,true]
[null,12,null,true]
[null,13,null,true]
[null,14,null,true]
[null,15,null,true]
[null,16,null,true]
[null,17,null,false]
[null,18,null,false]
[null,19,null,false]
[null,20,null,false]
[null,21,null,false]
[null,22,null,false]
[null,23,null,false]
[null,24,null,false]

{"sheet":"Indirect Solution","index":13,"n_rows":125,"n_cols":7,"rows_kept":125,"cut":false,"hidden":false,"merged":[[7,1,7,3],[7,5,7,6],[8,1,8,2],[1,1,2,6]]}
[]
[null,"Indirect Solution"]
[]
[]
[]
[]
[]
[null,"Solution on S",null,null,null,"Solution in D"]
[null,"Number of panels",null,{"$f":"'Set Problem'!H9","v":24},null,"Number of points",{"$f":"'Set Problem'!R9","v":5}]
[null,"index","phi_S","d{\\phi}/dn",null,"index","phi_D"]
[null,{"$f":"'Set Problem'!B11","v":1},20.000000000000004,10.002644945800007,null,1,12.497961961095296]
[null,{"$f":"'Set Problem'!B12","v":2},20,10.011800747112796,null,2,12.496667542472983]
[null,{"$f":"'Set Problem'!B13","v":3},20.000000000000004,10.013862724931631,null,3,17.499318320011028]
[null,{"$f":"'Set Problem'!B14","v":4},20.000000000000014,10.019385891729176,null,4,17.489865488136122]
[null,{"$f":"'Set Problem'!B15","v":5},20,10.01958463139098,null,5,14.995934804694787]
[null,{"$f":"'Set Problem'!B16","v":6},19.999999999999996,10.057802400244924]
[null,{"$f":"'Set Problem'!B17","v":7},19.999999999999996,9.7092745735734809]
[null,{"$f":"'Set Problem'!B18","v":8},19.999999999999993,15.391417736731844]
[null,{"$f":"'Set Problem'!B19","v":9},19.155131690694173,-7.7368667028565596E-16]
[null,{"$f":"'Set Problem'!B20","v":10},18.085154811912073,1.8110513089197866E-15]
[null,{"$f":"'Set Problem'!B21","v":11},16.856864358036216,-4.838143774499315E-15]
[null,{"$f":"'Set Problem'!B22","v":12},15.613802782124282,2.6714741530042829E-16]
[null,{"$f":"'Set Problem'!B23","v":13},14.367166654676963,-1.2038980923279041E-15]
[null,{"$f":"'Set Problem'!B24","v":14},13.119293018408257,-1.1830814106161824E-15]
[null,{"$f":"'Set Problem'!B25","v":15},11.871219864457389,-5.6898930012039273E-16]
[null,{"$f":"'Set Problem'!B26","v":16},10.628649121564184,-9.7491459349896559E-16]
[null,{"$f":"'Set Problem'!B27","v":17},10.000000000000002,-10.147583394000391]
[null,{"$f":"'Set Problem'!B28","v":18},10,-9.9918737711783407]
[null,{"$f":"'Set Problem'!B29","v":19},10,-9.9940264534503989]
[null,{"$f":"'Set Problem'!B30","v":20},10.000000000000002,-9.9927892642468983]
[null,{"$f":"'Set Problem'!B31","v":21},10,-9.9946613450370432]
[null,{"$f":"'Set Problem'!B32","v":22},9.9999999999999964,-9.9950635130160705]
[null,{"$f":"'Set Problem'!B33","v":23},9.9999999999999982,-9.9957271245130368]
[null,{"$f":"'Set Problem'!B34","v":24},9.9999999999999982,-9.993409847440331]
[null,{"$f":"'Set Problem'!B35","v":25}]
[null,{"$f":"'Set Problem'!B36","v":0}]
[null,{"$f":"'Set Problem'!B37","v":0}]
[null,{"$f":"'Set Problem'!B38","v":0}]
[null,{"$f":"'Set Problem'!B39","v":0}]
[null,{"$f":"'Set Problem'!B40","v":0}]
[null,{"$f":"'Set Problem'!B41","v":0}]
[null,{"$f":"'Set Problem'!B42","v":0}]
[null,{"$f":"'Set Problem'!B43","v":0}]
[null,{"$f":"'Set Problem'!B44","v":0}]
[null,{"$f":"'Set Problem'!B45","v":0}]
[null,{"$f":"'Set Problem'!B46","v":0}]
[null,{"$f":"'Set Problem'!B47","v":0}]
[null,{"$f":"'Set Problem'!B48","v":0}]
[null,{"$f":"'Set Problem'!B49","v":0}]
[null,{"$f":"'Set Problem'!B50","v":0}]
[null,{"$f":"'Set Problem'!B51","v":0}]
[null,{"$f":"'Set Problem'!B52","v":0}]
[null,{"$f":"'Set Problem'!B53","v":0}]
[null,{"$f":"'Set Problem'!B54","v":0}]
[null,{"$f":"'Set Problem'!B55","v":0}]
[null,{"$f":"'Set Problem'!B56","v":0}]
[null,{"$f":"'Set Problem'!B57","v":0}]
[null,{"$f":"'Set Problem'!B58","v":0}]
[null,{"$f":"'Set Problem'!B59","v":0}]
[null,{"$f":"'Set Problem'!B60","v":0}]
[null,{"$f":"'Set Problem'!B61","v":0}]
[null,{"$f":"'Set Problem'!B62","v":0}]
[null,{"$f":"'Set Problem'!B63","v":0}]
[null,{"$f":"'Set Problem'!B64","v":0}]
[null,{"$f":"'Set Problem'!B65","v":0}]
[null,{"$f":"'Set Problem'!B66","v":0}]
[null,{"$f":"'Set Problem'!B67","v":0}]
[null,{"$f":"'Set Problem'!B68","v":0}]
[null,{"$f":"'Set Problem'!B69","v":0}]
[null,{"$f":"'Set Problem'!B70","v":0}]
[null,{"$f":"'Set Problem'!B71","v":0}]
[null,{"$f":"'Set Problem'!B72","v":0}]
[null,{"$f":"'Set Problem'!B73","v":0}]
[null,{"$f":"'Set Problem'!B74","v":0}]
[null,{"$f":"'Set Problem'!B75","v":0}]
[null,{"$f":"'Set Problem'!B76","v":0}]
[null,{"$f":"'Set Problem'!B77","v":0}]
[null,{"$f":"'Set Problem'!B78","v":0}]
[null,{"$f":"'Set Problem'!B79","v":0}]
[null,{"$f":"'Set Problem'!B80","v":0}]
[null,{"$f":"'Set Problem'!B81","v":0}]
[null,{"$f":"'Set Problem'!B82","v":0}]
[null,{"$f":"'Set Problem'!B83","v":0}]
[null,{"$f":"'Set Problem'!B84","v":0}]
[null,{"$f":"'Set Problem'!B85","v":0}]
[null,{"$f":"'Set Problem'!B86","v":0}]
[null,{"$f":"'Set Problem'!B87","v":0}]
[null,{"$f":"'Set Problem'!B88","v":0}]
[null,{"$f":"'Set Problem'!B89","v":0}]
[null,{"$f":"'Set Problem'!B90","v":0}]
[null,{"$f":"'Set Problem'!B91","v":0}]
[null,{"$f":"'Set Problem'!B92","v":0}]
[null,{"$f":"'Set Problem'!B93","v":0}]
[null,{"$f":"'Set Problem'!B94","v":0}]
[null,{"$f":"'Set Problem'!B95","v":0}]
[null,{"$f":"'Set Problem'!B96","v":0}]
[null,{"$f":"'Set Problem'!B97","v":0}]
[null,{"$f":"'Set Problem'!B98","v":0}]
[null,{"$f":"'Set Problem'!B99","v":0}]
[null,{"$f":"'Set Problem'!B100","v":0}]
[null,{"$f":"'Set Problem'!B101","v":0}]
[null,{"$f":"'Set Problem'!B102","v":0}]
[null,{"$f":"'Set Problem'!B103","v":0}]
[null,{"$f":"'Set Problem'!B104","v":0}]
[null,{"$f":"'Set Problem'!B105","v":0}]
[null,{"$f":"'Set Problem'!B106","v":0}]
[null,{"$f":"'Set Problem'!B107","v":0}]
[null,{"$f":"'Set Problem'!B108","v":0}]
[null,{"$f":"'Set Problem'!B109","v":0}]
[null,{"$f":"'Set Problem'!B110","v":0}]
[null,{"$f":"'Set Problem'!B111","v":0}]
[null,{"$f":"'Set Problem'!B112","v":0}]
[null,{"$f":"'Set Problem'!B113","v":0}]
[null,{"$f":"'Set Problem'!B114","v":0}]
[null,{"$f":"'Set Problem'!B115","v":0}]
[null,{"$f":"'Set Problem'!B116","v":0}]
[null,{"$f":"'Set Problem'!B117","v":0}]
[null,{"$f":"'Set Problem'!B118","v":0}]
[null,{"$f":"'Set Problem'!B119","v":0}]
[null,{"$f":"'Set Problem'!B120","v":0}]
[null,{"$f":"'Set Problem'!B121","v":0}]
[null,{"$f":"'Set Problem'!B122","v":0}]
[null,{"$f":"'Set Problem'!B123","v":0}]
[null,{"$f":"'Set Problem'!B124","v":0}]
[null,{"$f":"'Set Problem'!B125","v":0}]

{"sheet":"Indirect_LU","index":14,"n_rows":24,"n_cols":24,"rows_kept":24,"cut":false,"hidden":false,"merged":[]}
[5.8289820043809594E-2,6.4634903454114753E-2,6.3167685717672312E-2,6.282950241193884E-2,6.2696721341829464E-2,6.2630829153989653E-2,6.259332116440923E-2,6.2569931238824178E-2,6.2398131581932283E-2,6.1446766941005315E-2,5.9667943713049641E-2,5.7267968027061238E-2,5.4477284213126941E-2,5.1503101279574005E-2,4.8505338364090399E-2,4.5592924506822313E-2,4.2709353182464146E-2,3.9365369422599793E-2,3.5351849819036898E-2,3.0577868877058389E-2,2.4985811136014363E-2,1.8583580814385069E-2,1.1476733071427695E-2,3.883676282357528E-3]
[0.38164243155900779,5.7878640920522265E-2,4.6137252480866545E-2,4.1820666824030156E-2,4.0453217560916216E-2,3.9822110804066266E-2,3.9475213264533973E-2,3.9263138310153087E-2,3.9071708901891503E-2,3.8417351602362863E-2,3.7208623203762545E-2,3.5604985269971245E-2,3.3773686575420167E-2,3.1854445152759744E-2,2.9947088130081772E-2,2.8114437505326509E-2,2.6301263334666869E-2,2.4190240195078247E-2,2.166450235700975E-2,1.8676851037219871E-2,1.5204833115730544E-2,1.1267344291360596E-2,6.9373573492253326E-3,2.343509443325122E-3]
[0.21901572965663593,0.4939112297353927,5.6338187571736156E-2,4.0399896764238462E-2,3.4806962396259536E-2,3.2823667002436503E-2,3.1838487152974264E-2,3.126715239809838E-2,3.0948984703519707E-2,3.031113892473733E-2,2.9166402194848465E-2,2.770606257586361E-2,2.610588984462206E-2,2.4490671468948934E-2,2.293445176090346E-2,2.1474592703343624E-2,2.0029976332538446E-2,1.8332569360030616E-2,1.6317891782752225E-2,1.396569868018049E-2,1.1279998945393915E-2,8.2953935733987814E-3,5.0762784688843845E-3,1.7089233242831743E-3]
[0.15478848908351925,0.31723899285586671,0.52337596145380127,5.5595752680794558E-2,3.7782323350369101E-2,3.1499225926200726E-2,2.9137745848218051E-2,2.7914266279892741E-2,2.735417738342423E-2,2.6582168719691948E-2,2.5265332046880785E-2,2.3693116899715705E-2,2.2081037191632624E-2,2.0544840059022712E-2,1.913085098617813E-2,1.7849052604750011E-2,1.6574027873891152E-2,1.5053820526619816E-2,1.3275343593734786E-2,1.1242311156121215E-2,8.9812768107785917E-3,6.5385030880248975E-3,3.9700813588310277E-3,1.3308471774907422E-3]
[0.11988587836173936,0.2381443849999117,0.34890993034986889,0.53720439806564324,5.5189951112371516E-2,3.6294317657485115E-2,2.9578588953035556E-2,2.6962459720336576E-2,2.5934036589100595E-2,2.4817058436372941E-2,2.3071576722881015E-2,2.1195399328592213E-2,1.9447686635757057E-2,1.7904910700762604E-2,1.6563230675911374E-2,1.5395163697867115E-2,1.4214275046118247E-2,1.2777430637325712E-2,1.113353762101691E-2,9.3079916069224583E-3,7.3431628701624216E-3,5.2879831272627589E-3,3.1852032333430681E-3,1.0632460266631E-3]
[9.7883179913163337E-2,0.19161977241610384,0.26880344019541341,0.36504689723363498,0.54507782298731622,5.4923342171479747E-2,3.5339201837661871E-2,2.8326585519216553E-2,2.6212745613221206E-2,2.4265938731549676E-2,2.1676352438410498E-2,1.9319484901741332E-2,1.7391065945917286E-2,1.5836095025574676E-2,1.4563484206018718E-2,1.3499122842302952E-2,1.2384397071428226E-2,1.0992081368228525E-2,9.4466026676635166E-3,7.7893872874796426E-3,6.0684932601260469E-3,4.325774210043782E-3,2.5872335405196364E-3,8.6053199844505308E-4]
[-6.7008426016511968E-2,-0.13245736199674213,-0.18943639711070751,-0.26147092091429519,-0.37276320866161883,-0.57964993108500995,-5.7785865123054281E-2,-0.10823121162644457,0.49893989802793504,1.342853443753695E-2,1.7836596106919528E-2,1.899509979882421E-2,1.9148917864421324E-2,1.8918854693164976E-2,1.8530121213205228E-2,1.8074576704823018E-2,1.5949978896368615E-2,1.2443896525801142E-2,9.4436218283027347E-3,6.9817152839578636E-3,4.9866034228281137E-3,3.339816415220174E-3,1.9209419984967382E-3,6.2715714341108697E-4]
[8.2725321059747697E-2,0.16064420161484635,0.22047337307956696,0.28540714236356068,0.37474811153857213,0.5503499558671926,-0.94717865588230266,-6.7845705501840992E-2,0.50129169465130785,3.7162530975940695E-2,3.7256764437209836E-2,3.5481551418104232E-2,3.361186624824896E-2,3.1905835971440019E-2,3.0380437373706198E-2,2.9009850950767947E-2,2.5947681441992783E-2,2.1272092297828539E-2,1.6980391325342899E-2,1.3151427960867478E-2,9.7605274040856501E-3,6.7238287187882037E-3,3.9371045843873019E-3,1.2964386157160042E-3]
[7.1641810351722568E-2,0.13843394720898691,0.18757853373270611,0.23684373668913405,0.2957884780056888,0.3813709160428449,-0.52478979782891788,-0.25062207540685788,0.43926977106296616,5.3571833660844836E-2,4.8106211566496297E-2,4.3804192383423604E-2,4.0502711573820703E-2,3.7863582929442322E-2,3.5670271392794502E-2,3.3789129389378218E-2,3.03543237860389E-2,2.5287875859613389E-2,2.0492382621211402E-2,1.6075408533209084E-2,1.2047961428742818E-2,8.3560276375539994E-3,4.9130707721467548E-3,1.6209267872504477E-3]
[-6.3930370417547122E-2,-0.12548854261541764,-0.17615340384313982,-0.23407354074373454,-0.30855172831286803,-0.39995827579796117,0.40704047723688369,-0.45503995521076934,7.3907082425716322E-2,0.4968654003765029,9.6749670241525962E-3,1.3612329194465592E-2,1.4849949913172983E-2,1.5266611100173237E-2,1.5341276739337854E-2,1.5249692903545685E-2,1.2938529414968954E-2,8.9634394024392557E-3,5.8898994870749694E-3,3.7243087468012571E-3,2.2887799597521834E-3,1.3517426012796419E-3,7.1190793353854195E-4,2.2228151102306345E-4]
[-5.844550733506413E-2,-0.11338264620062657,-0.15438854770654611,-0.19343531553010587,-0.22842071213353032,-0.23933098087463972,0.15487547524565143,-0.23252434677054765,0.10300336888479389,-3.0154146190003376E-3,0.48023558069335737,-5.2393473107417987E-3,2.5574918221200546E-4,2.7902592702482125E-3,4.2829484973074955E-3,5.2629407651066922E-3,3.1128780932083554E-3,-9.9255952478541354E-4,-3.414279304605675E-3,-4.2877795758955086E-3,-4.0624804581215982E-3,-3.193565119567014E-3,-2.0037722638763808E-3,-6.7963239247587266E-4]
[-5.1580425166623291E-2,-9.8746940846898446E-2,-0.13007023948391822,-0.15350963099135662,-0.16415184577117664,-0.1467135342222646,7.2062306269601098E-2,-0.1221359550287125,6.5048387136260322E-2,-3.380986744533862E-3,-2.1295054044931209E-2,0.47178084546221005,-1.2966251730175554E-2,-6.8009777307444716E-3,-3.668964881706073E-3,-1.6490317286294888E-3,-4.38995801327032E-3,-9.6479249264581988E-3,-1.1819961433238838E-2,-1.1471721202740639E-2,-9.6247492289904084E-3,-7.0805053039937468E-3,-4.2858549608873926E-3,-1.4307687654539385E-3]
[-4.4327734533342898E-2,-8.3839132654929399E-2,-0.10725291099708231,-0.12055912129317756,-0.12006007282990563,-9.7842561288319446E-2,4.3567634276642314E-2,-7.16774362559712E-2,3.5301194301434372E-2,-4.3469127556506346E-3,-1.5242054871787531E-2,-3.3599215424987741E-2,0.46622953533201433,-1.8023939891917612E-2,-1.1426138753134515E-2,-7.9089574112271247E-3,-1.2338752622510626E-2,-1.9991839333133345E-2,-2.1629761385151488E-2,-1.9324815884371915E-2,-1.5327761313369196E-2,-1.0876774865987338E-2,-6.4466174514878974E-3,-2.1314829848436551E-3]
[-3.7407066482827156E-2,-7.0074278619986941E-2,-8.7675945437414624E-2,-9.5250439858544964E-2,-9.087390274926703E-2,-7.1209471434546881E-2,3.2709103274616888E-2,-4.6419133712348515E-2,1.581573711606634E-2,-4.875164260373265E-3,-1.296421757842969E-2,-2.4227619161872618E-2,-4.2746211273176959E-2,0.462163135206833,-2.1705522528711052E-2,-1.4782104526898883E-2,-2.3638959827917517E-2,-3.5573904780539879E-2,-3.4622669824637284E-2,-2.8404935093393816E-2,-2.1291775225148676E-2,-1.4598198018472279E-2,-8.4873954163636484E-3,-2.7822613707501665E-3]
[-3.1218728374710344E-2,-5.8089674501899731E-2,-7.1607219357923496E-2,-7.6198342305480615E-2,-7.1194624961240391E-2,-5.5521043165918604E-2,2.7879528852233295E-2,-3.2410765975977689E-2,3.4316137055424569E-3,-5.0523051420205776E-3,-1.1548821353502251E-2,-1.9916115679280606E-2,-3.1284019440550224E-2,-4.9914231161814336E-2,0.45900706671057745,-2.4546764084416268E-2,-4.7801695640091887E-2,-6.385577349968688E-2,-5.1895960507759943E-2,-3.8202529927642517E-2,-2.7013061652226163E-2,-1.795249932204087E-2,-1.0270564796779008E-2,-3.3436637581213471E-3]
[-2.5911100731579213E-2,-4.8013349823065203E-2,-5.8674458545204596E-2,-6.1791093100993649E-2,-5.7390219945844104E-2,-4.5391256780057392E-2,2.5165791473213517E-2,-2.3904557994990749E-2,-4.3231650856162956E-3,-4.9994671117167535E-3,-1.0422980252154684E-2,-1.7115576743098642E-2,-2.5556069308609937E-2,-3.6980491116403731E-2,-5.5717334150294541E-2,0.45646823545263515,-0.15485069885533592,-0.11215992722913255,-6.9165711364500365E-2,-4.6201175689481039E-2,-3.1368219384130432E-2,-2.0456396858631636E-2,-1.1598208839656222E-2,-3.7620810909375145E-3]
[4.8858922377292037E-2,9.2679689504527901E-2,0.12008780704594546,0.14051261190574113,0.15576222527659692,0.1664439533796091,-0.16348586848055191,3.2281269880897683E-2,0.1932840599761258,2.8252492101063301E-2,4.2390714301709861E-2,5.7609510082721568E-2,7.5072772328763721E-2,9.6499837263876842E-2,0.12552999109521104,0.1688894132640778,0.13245984704022201,9.1769003758467513E-2,6.528708861877551E-2,4.7803269299533734E-2,3.4363457875766071E-2,2.3222114781071446E-2,1.3445172261215693E-2,4.4039218599549804E-3]
[5.1961163915332217E-2,9.8357419163479676E-2,0.12682312101574686,0.1472600632521342,0.16155669878373941,0.17045527371761182,-0.16505762276882752,3.4643467369843695E-2,0.19235655017991848,2.8457457628263943E-2,4.2843809519654739E-2,5.8168454170361115E-2,7.5279800179586853E-2,9.4971785524499294E-2,0.11749705180107255,0.13899038143801826,0.74342274294954924,5.5771380960061276E-2,3.0018760211718259E-2,1.9014947176770582E-2,1.2922131588356572E-2,8.4930862193374514E-3,4.8473222065552029E-3,1.5778819615999344E-3]
[5.5146494832727509E-2,0.1041062761953313,0.13341286593669199,0.15347447261054556,0.16636401241670148,0.17311904950348347,-0.1652451509239945,3.6563553780804579E-2,0.18999509353713603,2.8311851718820488E-2,4.2627944791969005E-2,5.7574089131019635E-2,7.3599859295331208E-2,9.0706331326957601E-2,0.10791497721042526,0.12229002080281988,0.62863626826620889,0.63307795188253324,5.3333130269328746E-2,2.7042663215103062E-2,1.6070316579084892E-2,1.0043673445005695E-2,5.6000840445730136E-3,1.8054161180323111E-3]
[5.8297226798170551E-2,0.10969621201755149,0.13955759372030982,0.15885336872596728,0.16999088183089908,0.17446608835551719,-0.16433315658738717,3.7932724616007316E-2,0.18677541372136208,2.7933098440078581E-2,4.1983604750438823E-2,5.6335378798489613E-2,7.1156387082077444E-2,8.6114677798017208E-2,0.10019553576760526,0.11165317755595973,0.56661939835353436,0.49336649056911058,0.61239261707723114,5.2421181283616995E-2,2.5314743310900605E-2,1.3891047446132627E-2,7.3990585965094946E-3,2.3448148609749083E-3]
[6.124324148006511E-2,0.11482126752468068,0.14492738829788826,0.16316359933565119,0.17242137906184402,0.1747524439914179,-0.16277245204423249,3.8771110106617428E-2,0.18333612310438271,2.7456019639039514E-2,4.1171011998726213E-2,5.4921566028097113E-2,6.8727131370130951E-2,8.2181479980069055E-2,9.4467803401881864E-2,0.10450292102811472,0.52720460968972249,0.43295614521086373,0.46964710712485103,0.61127661706787351,5.1787297034664878E-2,2.3418535690251572E-2,1.1022388583410429E-2,3.3702384084188059E-3]
[6.3767483709324682E-2,0.11912334106930619,0.14921477401011343,0.16629982837998272,0.17382870807270973,0.17439223568875722,-0.16106590650070376,3.9197773363326506E-2,0.18025174092169349,2.6999191194614608E-2,4.0401652442698541E-2,5.3657209126984351E-2,6.6720039978725318E-2,7.9198492323445321E-2,9.0447035370980353E-2,9.9722237032974226E-2,0.50153471920906301,0.39967150073423963,0.41173033239595452,0.47130533931082863,0.61987286845580147,5.09809761306355E-2,2.0205231452458474E-2,5.5478179391439363E-3]
[6.5632130966209526E-2,0.12224266333733504,0.15218552789501452,0.16829154996692175,0.17450772988712354,0.17383743618480807,-0.15965989575001588,3.9368293157588038E-2,0.1779609433812617,2.6649818122249473E-2,3.9819650935964339E-2,5.2733751634965451E-2,6.5321567537361194E-2,7.7220374212424711E-2,8.7891741320730327E-2,9.6760879876590405E-2,0.48584904699439141,0.38100966898575961,0.38309148370276874,0.41894943733616119,0.48826852933948323,0.64006060795898756,4.9225322197703536E-2,1.2143169964807337E-2]
[6.662700758792231E-2,0.12388512851212026,0.15370014299711143,0.16924387843803046,0.17475572382301338,0.17345784451754215,-0.15887479068029656,3.9416219841644923E-2,0.17674730937892666,2.6462339899802158E-2,3.9509571827791329E-2,5.2251166225588612E-2,6.4608940868294648E-2,7.6238091121663604E-2,8.6649929065936618E-2,9.5339920517107463E-2,0.47837321326619597,0.37248651023364582,0.37074668512037606,0.39852270991768907,0.44835078456422067,0.52993410735850932,0.69612213846000437,4.0571339486791431E-2]

{"sheet":"perms","index":15,"n_rows":27,"n_cols":2,"rows_kept":27,"cut":false,"hidden":false,"merged":[]}
[]
[null,"perm"]
[]
[null,1]
[null,2]
[null,3]
[null,4]
[null,5]
[null,6]
[null,9]
[null,7]
[null,8]
[null,10]
[null,11]
[null,12]
[null,13]
[null,14]
[null,15]
[null,16]
[null,17]
[null,18]
[null,19]
[null,20]
[null,21]
[null,22]
[null,23]
[null,24]

{"sheet":"New Condition","index":16,"n_rows":34,"n_cols":6,"rows_kept":34,"cut":false,"hidden":false,"merged":[[7,2,7,5],[8,2,8,3]]}
[]
[]
[]
[]
[]
[]
[]
[null,null,"Boundary Condition"]
[null,null,"Number of panels",null,{"$f":"'Set Problem'!H9","v":24}]
[null,null,"index","alpha","beta","f"]
[null,null,{"$f":"'Set Problem'!F11","v":1},1,0,10]
[null,null,{"$f":"'Set Problem'!F12","v":2},1,0,10]
[null,null,{"$f":"'Set Problem'!F13","v":3},1,0,10]
[null,null,{"$f":"'Set Problem'!F14","v":4},1,0,10]
[null,null,{"$f":"'Set Problem'!F15","v":5},1,0,10]
[null,null,{"$f":"'Set Problem'!F16","v":6},1,0,10]
[null,null,{"$f":"'Set Problem'!F17","v":7},1,0,10]
[null,null,{"$f":"'Set Problem'!F18","v":8},1,0,10]
[null,null,{"$f":"'Set Problem'!F19","v":9},0,1,0]
[null,null,{"$f":"'Set Problem'!F20","v":10},0,1,0]
[null,null,{"$f":"'Set Problem'!F21","v":11},0,1,0]
[null,null,{"$f":"'Set Problem'!F22","v":12},0,1,0]
[null,null,{"$f":"'Set Problem'!F23","v":13},0,1,0]
[null,null,{"$f":"'Set Problem'!F24","v":14},0,1,0]
[null,null,{"$f":"'Set Problem'!F25","v":15},0,1,0]
[null,null,{"$f":"'Set Problem'!F26","v":16},0,1,0]
[null,null,{"$f":"'Set Problem'!F27","v":17},1,0,20]
[null,null,{"$f":"'Set Problem'!F28","v":18},1,0,20]
[null,null,{"$f":"'Set Problem'!F29","v":19},1,0,20]
[null,null,{"$f":"'Set Problem'!F30","v":20},1,0,20]
[null,null,{"$f":"'Set Problem'!F31","v":21},1,0,20]
[null,null,{"$f":"'Set Problem'!F32","v":22},1,0,20]
[null,null,{"$f":"'Set Problem'!F33","v":23},1,0,20]
[null,null,{"$f":"'Set Problem'!F34","v":24},1,0,20]

{"sheet":"New Direct Solution","index":17,"n_rows":125,"n_cols":7,"rows_kept":125,"cut":false,"hidden":false,"merged":[[7,1,7,3],[7,5,7,6],[8,1,8,2],[1,1,2,6]]}
[]
[null,"New Direct Solution"]
[]
[]
[]
[]
[]
[null,"Solution on S",null,null,null,"Solution in D"]
[null,"Number of panels",null,{"$f":"'Set Problem'!H9","v":24},null,"Number of points",{"$f":"'Set Problem'!R9","v":5}]
[null,"index","phi_S","vel_S",null,"index","phi_D"]
[null,{"$f":"'Set Problem'!B11","v":1},10,-9.9864560141567456,null,1,17.501164881137754]
[null,{"$f":"'Set Problem'!B12","v":2},10,-9.9938533528257576,null,2,17.5060342563972]
[null,{"$f":"'Set Problem'!B13","v":3},10,-9.9917535331641325,null,3,12.498988472628902]
[null,{"$f":"'Set Problem'!B14","v":4},10,-9.9887386478753637,null,4,12.494370166045444]
[null,{"$f":"'Set Problem'!B15","v":5},10,-9.9747412138745482,null,5,15.000159015021422]
[null,{"$f":"'Set Problem'!B16","v":6},10,-9.9585872158656414]
[null,{"$f":"'Set Problem'!B17","v":7},10,-9.8169276892539266]
[null,{"$f":"'Set Problem'!B18","v":8},10,-10.558147971699]
[null,{"$f":"'Set Problem'!B19","v":9},10.589261479052057,0]
[null,{"$f":"'Set Problem'!B20","v":10},11.854553802080678,0]
[null,{"$f":"'Set Problem'!B21","v":11},13.114351115793683,0]
[null,{"$f":"'Set Problem'!B22","v":12},14.372285214521591,0]
[null,{"$f":"'Set Problem'!B23","v":13},15.629743541978268,0]
[null,{"$f":"'Set Problem'!B24","v":14},16.887633266149653,0]
[null,{"$f":"'Set Problem'!B25","v":15},18.147335510281575,0]
[null,{"$f":"'Set Problem'!B26","v":16},19.41246033080882,0]
[null,{"$f":"'Set Problem'!B27","v":17},20,10.555284468357295]
[null,{"$f":"'Set Problem'!B28","v":18},20,9.8156614125289749]
[null,{"$f":"'Set Problem'!B29","v":19},20,9.9576983553340987]
[null,{"$f":"'Set Problem'!B30","v":20},20,9.9741207193810641]
[null,{"$f":"'Set Problem'!B31","v":21},20,9.9882941196423296]
[null,{"$f":"'Set Problem'!B32","v":22},20,9.9914252535442571]
[null,{"$f":"'Set Problem'!B33","v":23},20,9.9935958492297292]
[null,{"$f":"'Set Problem'!B34","v":24},20,9.9862319166244564]
[null,{"$f":"'Set Problem'!B35","v":25},10.590357148290741,0]
[null,{"$f":"'Set Problem'!B36","v":0},11.856033296410871,0]
[null,{"$f":"'Set Problem'!B37","v":0},13.11502036071361,0]
[null,{"$f":"'Set Problem'!B38","v":0},14.37185040775084,0]
[null,{"$f":"'Set Problem'!B39","v":0},15.628149594756401,0]
[null,{"$f":"'Set Problem'!B40","v":0},16.884979640442182,0]
[null,{"$f":"'Set Problem'!B41","v":0},18.143966703905335,0]
[null,{"$f":"'Set Problem'!B42","v":0},19.409642851644922,0]
[null,{"$f":"'Set Problem'!B43","v":0}]
[null,{"$f":"'Set Problem'!B44","v":0}]
[null,{"$f":"'Set Problem'!B45","v":0}]
[null,{"$f":"'Set Problem'!B46","v":0}]
[null,{"$f":"'Set Problem'!B47","v":0}]
[null,{"$f":"'Set Problem'!B48","v":0}]
[null,{"$f":"'Set Problem'!B49","v":0}]
[null,{"$f":"'Set Problem'!B50","v":0}]
[null,{"$f":"'Set Problem'!B51","v":0}]
[null,{"$f":"'Set Problem'!B52","v":0}]
[null,{"$f":"'Set Problem'!B53","v":0}]
[null,{"$f":"'Set Problem'!B54","v":0}]
[null,{"$f":"'Set Problem'!B55","v":0}]
[null,{"$f":"'Set Problem'!B56","v":0}]
[null,{"$f":"'Set Problem'!B57","v":0}]
[null,{"$f":"'Set Problem'!B58","v":0}]
[null,{"$f":"'Set Problem'!B59","v":0}]
[null,{"$f":"'Set Problem'!B60","v":0}]
[null,{"$f":"'Set Problem'!B61","v":0}]
[null,{"$f":"'Set Problem'!B62","v":0}]
[null,{"$f":"'Set Problem'!B63","v":0}]
[null,{"$f":"'Set Problem'!B64","v":0}]
[null,{"$f":"'Set Problem'!B65","v":0}]
[null,{"$f":"'Set Problem'!B66","v":0}]
[null,{"$f":"'Set Problem'!B67","v":0}]
[null,{"$f":"'Set Problem'!B68","v":0}]
[null,{"$f":"'Set Problem'!B69","v":0}]
[null,{"$f":"'Set Problem'!B70","v":0}]
[null,{"$f":"'Set Problem'!B71","v":0}]
[null,{"$f":"'Set Problem'!B72","v":0}]
[null,{"$f":"'Set Problem'!B73","v":0}]
[null,{"$f":"'Set Problem'!B74","v":0}]
[null,{"$f":"'Set Problem'!B75","v":0}]
[null,{"$f":"'Set Problem'!B76","v":0}]
[null,{"$f":"'Set Problem'!B77","v":0}]
[null,{"$f":"'Set Problem'!B78","v":0}]
[null,{"$f":"'Set Problem'!B79","v":0}]
[null,{"$f":"'Set Problem'!B80","v":0}]
[null,{"$f":"'Set Problem'!B81","v":0}]
[null,{"$f":"'Set Problem'!B82","v":0}]
[null,{"$f":"'Set Problem'!B83","v":0}]
[null,{"$f":"'Set Problem'!B84","v":0}]
[null,{"$f":"'Set Problem'!B85","v":0}]
[null,{"$f":"'Set Problem'!B86","v":0}]
[null,{"$f":"'Set Problem'!B87","v":0}]
[null,{"$f":"'Set Problem'!B88","v":0}]
[null,{"$f":"'Set Problem'!B89","v":0}]
[null,{"$f":"'Set Problem'!B90","v":0}]
[null,{"$f":"'Set Problem'!B91","v":0}]
[null,{"$f":"'Set Problem'!B92","v":0}]
[null,{"$f":"'Set Problem'!B93","v":0}]
[null,{"$f":"'Set Problem'!B94","v":0}]
[null,{"$f":"'Set Problem'!B95","v":0}]
[null,{"$f":"'Set Problem'!B96","v":0}]
[null,{"$f":"'Set Problem'!B97","v":0}]
[null,{"$f":"'Set Problem'!B98","v":0}]
[null,{"$f":"'Set Problem'!B99","v":0}]
[null,{"$f":"'Set Problem'!B100","v":0}]
[null,{"$f":"'Set Problem'!B101","v":0}]
[null,{"$f":"'Set Problem'!B102","v":0}]
[null,{"$f":"'Set Problem'!B103","v":0}]
[null,{"$f":"'Set Problem'!B104","v":0}]
[null,{"$f":"'Set Problem'!B105","v":0}]
[null,{"$f":"'Set Problem'!B106","v":0}]
[null,{"$f":"'Set Problem'!B107","v":0}]
[null,{"$f":"'Set Problem'!B108","v":0}]
[null,{"$f":"'Set Problem'!B109","v":0}]
[null,{"$f":"'Set Problem'!B110","v":0}]
[null,{"$f":"'Set Problem'!B111","v":0}]
[null,{"$f":"'Set Problem'!B112","v":0}]
[null,{"$f":"'Set Problem'!B113","v":0}]
[null,{"$f":"'Set Problem'!B114","v":0}]
[null,{"$f":"'Set Problem'!B115","v":0}]
[null,{"$f":"'Set Problem'!B116","v":0}]
[null,{"$f":"'Set Problem'!B117","v":0}]
[null,{"$f":"'Set Problem'!B118","v":0}]
[null,{"$f":"'Set Problem'!B119","v":0}]
[null,{"$f":"'Set Problem'!B120","v":0}]
[null,{"$f":"'Set Problem'!B121","v":0}]
[null,{"$f":"'Set Problem'!B122","v":0}]
[null,{"$f":"'Set Problem'!B123","v":0}]
[null,{"$f":"'Set Problem'!B124","v":0}]
[null,{"$f":"'Set Problem'!B125","v":0}]

{"sheet":"New Indirect Solution","index":18,"n_rows":125,"n_cols":7,"rows_kept":125,"cut":false,"hidden":false,"merged":[[1,1,2,6],[7,1,7,3],[7,5,7,6],[8,1,8,2]]}
[]
[null,"New Indirect Solution"]
[]
[]
[]
[]
[]
[null,"Solution on S",null,null,null,"Solution in D"]
[null,"Number of panels",null,{"$f":"'Set Problem'!H9","v":24},null,"Number of points",{"$f":"'Set Problem'!R9","v":5}]
[null,"index","phi_S","vel_S",null,"index","phi_D"]
[null,{"$f":"'Set Problem'!B11","v":1},9.9999999999999964,-9.9934098474403115,null,1,17.499318320011032]
[null,{"$f":"'Set Problem'!B12","v":2},9.9999999999999982,-9.9957271245130546,null,2,17.489865488136125]
[null,{"$f":"'Set Problem'!B13","v":3},10,-9.9950635130160705,null,3,12.497961961095298]
[null,{"$f":"'Set Problem'!B14","v":4},10,-9.9946613450370521,null,4,12.496667542472981]
[null,{"$f":"'Set Problem'!B15","v":5},10.000000000000002,-9.9927892642468823,null,5,14.995934804694784]
[null,{"$f":"'Set Problem'!B16","v":6},10,-9.9940264534504024]
[null,{"$f":"'Set Problem'!B17","v":7},10.000000000000002,-9.9918737711783425]
[null,{"$f":"'Set Problem'!B18","v":8},10,-10.147583394000383]
[null,{"$f":"'Set Problem'!B19","v":9},10.628649121564193,1.700029006457271E-15]
[null,{"$f":"'Set Problem'!B20","v":10},11.871219864457402,4.163336342344337E-16]
[null,{"$f":"'Set Problem'!B21","v":11},13.119293018408268,9.9226182825873366E-16]
[null,{"$f":"'Set Problem'!B22","v":12},14.367166654676964,-1.672273430841642E-15]
[null,{"$f":"'Set Problem'!B23","v":13},15.613802782124285,-1.3600232051658168E-15]
[null,{"$f":"'Set Problem'!B24","v":14},16.856864358036223,-1.2490009027033011E-16]
[null,{"$f":"'Set Problem'!B25","v":15},18.085154811912076,-1.0963452368173421E-15]
[null,{"$f":"'Set Problem'!B26","v":16},19.155131690694173,-9.7144514654701197E-16]
[null,{"$f":"'Set Problem'!B27","v":17},19.999999999999993,15.391417736731787]
[null,{"$f":"'Set Problem'!B28","v":18},19.999999999999996,9.709274573573504]
[null,{"$f":"'Set Problem'!B29","v":19},19.999999999999996,10.057802400244949]
[null,{"$f":"'Set Problem'!B30","v":20},19.999999999999996,10.019584631390972]
[null,{"$f":"'Set Problem'!B31","v":21},19.999999999999996,10.01938589172916]
[null,{"$f":"'Set Problem'!B32","v":22},19.999999999999996,10.013862724931615]
[null,{"$f":"'Set Problem'!B33","v":23},20,10.011800747112799]
[null,{"$f":"'Set Problem'!B34","v":24},20,10.002644945800011]
[null,{"$f":"'Set Problem'!B35","v":25},10.403909323929286,0]
[null,{"$f":"'Set Problem'!B36","v":0},11.834099265971034,-4.4408920985006262E-16]
[null,{"$f":"'Set Problem'!B37","v":0},13.102575532335157,-4.8849813083506888E-15]
[null,{"$f":"'Set Problem'!B38","v":0},14.355663302652333,-2.2204460492503131E-16]
[null,{"$f":"'Set Problem'!B39","v":0},15.603414787877576,-1.0269562977782698E-15]
[null,{"$f":"'Set Problem'!B40","v":0},16.843989746461688,6.6613381477509392E-16]
[null,{"$f":"'Set Problem'!B41","v":0},18.057324709931951,7.1748162966400741E-15]
[null,{"$f":"'Set Problem'!B42","v":0},18.969018198824322,8.2850393212652307E-15]
[null,{"$f":"'Set Problem'!B43","v":0}]
[null,{"$f":"'Set Problem'!B44","v":0}]
[null,{"$f":"'Set Problem'!B45","v":0}]
[null,{"$f":"'Set Problem'!B46","v":0}]
[null,{"$f":"'Set Problem'!B47","v":0}]
[null,{"$f":"'Set Problem'!B48","v":0}]
[null,{"$f":"'Set Problem'!B49","v":0}]
[null,{"$f":"'Set Problem'!B50","v":0}]
[null,{"$f":"'Set Problem'!B51","v":0}]
[null,{"$f":"'Set Problem'!B52","v":0}]
[null,{"$f":"'Set Problem'!B53","v":0}]
[null,{"$f":"'Set Problem'!B54","v":0}]
[null,{"$f":"'Set Problem'!B55","v":0}]
[null,{"$f":"'Set Problem'!B56","v":0}]
[null,{"$f":"'Set Problem'!B57","v":0}]
[null,{"$f":"'Set Problem'!B58","v":0}]
[null,{"$f":"'Set Problem'!B59","v":0}]
[null,{"$f":"'Set Problem'!B60","v":0}]
[null,{"$f":"'Set Problem'!B61","v":0}]
[null,{"$f":"'Set Problem'!B62","v":0}]
[null,{"$f":"'Set Problem'!B63","v":0}]
[null,{"$f":"'Set Problem'!B64","v":0}]
[null,{"$f":"'Set Problem'!B65","v":0}]
[null,{"$f":"'Set Problem'!B66","v":0}]
[null,{"$f":"'Set Problem'!B67","v":0}]
[null,{"$f":"'Set Problem'!B68","v":0}]
[null,{"$f":"'Set Problem'!B69","v":0}]
[null,{"$f":"'Set Problem'!B70","v":0}]
[null,{"$f":"'Set Problem'!B71","v":0}]
[null,{"$f":"'Set Problem'!B72","v":0}]
[null,{"$f":"'Set Problem'!B73","v":0}]
[null,{"$f":"'Set Problem'!B74","v":0}]
[null,{"$f":"'Set Problem'!B75","v":0}]
[null,{"$f":"'Set Problem'!B76","v":0}]
[null,{"$f":"'Set Problem'!B77","v":0}]
[null,{"$f":"'Set Problem'!B78","v":0}]
[null,{"$f":"'Set Problem'!B79","v":0}]
[null,{"$f":"'Set Problem'!B80","v":0}]
[null,{"$f":"'Set Problem'!B81","v":0}]
[null,{"$f":"'Set Problem'!B82","v":0}]
[null,{"$f":"'Set Problem'!B83","v":0}]
[null,{"$f":"'Set Problem'!B84","v":0}]
[null,{"$f":"'Set Problem'!B85","v":0}]
[null,{"$f":"'Set Problem'!B86","v":0}]
[null,{"$f":"'Set Problem'!B87","v":0}]
[null,{"$f":"'Set Problem'!B88","v":0}]
[null,{"$f":"'Set Problem'!B89","v":0}]
[null,{"$f":"'Set Problem'!B90","v":0}]
[null,{"$f":"'Set Problem'!B91","v":0}]
[null,{"$f":"'Set Problem'!B92","v":0}]
[null,{"$f":"'Set Problem'!B93","v":0}]
[null,{"$f":"'Set Problem'!B94","v":0}]
[null,{"$f":"'Set Problem'!B95","v":0}]
[null,{"$f":"'Set Problem'!B96","v":0}]
[null,{"$f":"'Set Problem'!B97","v":0}]
[null,{"$f":"'Set Problem'!B98","v":0}]
[null,{"$f":"'Set Problem'!B99","v":0}]
[null,{"$f":"'Set Problem'!B100","v":0}]
[null,{"$f":"'Set Problem'!B101","v":0}]
[null,{"$f":"'Set Problem'!B102","v":0}]
[null,{"$f":"'Set Problem'!B103","v":0}]
[null,{"$f":"'Set Problem'!B104","v":0}]
[null,{"$f":"'Set Problem'!B105","v":0}]
[null,{"$f":"'Set Problem'!B106","v":0}]
[null,{"$f":"'Set Problem'!B107","v":0}]
[null,{"$f":"'Set Problem'!B108","v":0}]
[null,{"$f":"'Set Problem'!B109","v":0}]
[null,{"$f":"'Set Problem'!B110","v":0}]
[null,{"$f":"'Set Problem'!B111","v":0}]
[null,{"$f":"'Set Problem'!B112","v":0}]
[null,{"$f":"'Set Problem'!B113","v":0}]
[null,{"$f":"'Set Problem'!B114","v":0}]
[null,{"$f":"'Set Problem'!B115","v":0}]
[null,{"$f":"'Set Problem'!B116","v":0}]
[null,{"$f":"'Set Problem'!B117","v":0}]
[null,{"$f":"'Set Problem'!B118","v":0}]
[null,{"$f":"'Set Problem'!B119","v":0}]
[null,{"$f":"'Set Problem'!B120","v":0}]
[null,{"$f":"'Set Problem'!B121","v":0}]
[null,{"$f":"'Set Problem'!B122","v":0}]
[null,{"$f":"'Set Problem'!B123","v":0}]
[null,{"$f":"'Set Problem'!B124","v":0}]
[null,{"$f":"'Set Problem'!B125","v":0}]